Workbook

Sheet はじめに・1基本情報の入力
B2: 「女性活躍推進法」の「男女の賃金の差異」集計シート （令和３年４月１日以後開始事業年度用）
B4: ＜当集計シートの利用上のご注意＞
B5: １．当集計シートは、ＴＫＣ全国会システム委員会のＰＸ２システム小委員会の監修のもと、株式会社ＴＫＣが独自に作成したものです。 ２．当集計シートは、「女性活躍推進法」の「男女の賃金の差異」の集計をサポートするために作成したツールであり、 その集計結果の正確性・完全性を保証するものではありません。そのため、当集計にあたっては、必ず関係法令等をご確認ください。 ３．当集計シートは、ＰＸの利用を前提としています。ＰＸ未利用の場合、当集計シートの利用はご遠慮ください。 （ＰＸ未利用の場合、お問合せには回答いたしかねます。ご了承ください。） ４．従業員数が１,０００名超の場合は、「【参考1】給与賞与計」シートの行を選択し、行複写（計算式をコピー）してご利用ください。
B17: 【ご参考】
C18: 厚生労働省ホームページ：男女の賃金の差異の情報公表について
C19: 厚生労働省資料：「男女の賃金の差異の算出方法等について」
C21: ・・・当計算シートで行う処理
C22: ・・・ＰＸで行う処理
B24: 1 | C24: 基本情報の入力（必須） | O24: 算出したい事業年度を入力してください。
O25: 事業年度の開始日が月の途中の場合は、その開始日に応じた集計対象期間を入力してください。
O26: （例：事業年度の開始日が4月22日で、4月22日～5月21日勤務分の給与を５月中に支払う場合は、「5/1」と入力。）
Q27: ■事業年度： | V27: 自 | AC27: 至
B31: 2 | C31: ＰＸからのデータの出力 | O31: ＰＸの「補助機能」タブで、社員情報データと、算出したい事業年度の給与・賞与データを切り出してください。 切り出す項目は、１～３のとおりです。 詳細は「2ＰＸからのデータの出力」シートをご覧ください。 なお、切り出しレイアウトを登録しておくことで、次回以降は切り出し項目の選択を不要にできます。
P34: 「2ＰＸからのデータの出力」シート へ
O35: (1) 社員情報データの切り出し 社員基本データのうち、次の順に項目を切り出します。なお、「部課」以降は参考情報のため切り出しは任意です。 社員番号、社員氏名、性別、役社員区分、部課、給与体系、常勤・非常勤の別、役職名、職種、職階、勤続年数 (2) 給与支給実績データの切り出し 次の項目をこの順番で切り出します。 支給日、対象月、社員番号、社員氏名、社員部課、社員体系、課税支給額(※) (3) 賞与支給実績データの切り出し 次の項目をこの順番で切り出します。 支給日、対象月、社員番号、社員氏名、社員部課、社員体系、課税支給額(※) (※)厚生労働省の「男女の賃金の差異の算出方法等について」を踏まえ、課税支給額（＝「源泉徴収簿」の総支給金額） を集計します。そのため、退職手当は集計対象外、通勤手当は課税分のみ集計対象としています。
B51: 3 | C51: ＰＸのデータの貼り付け | O51: 上記２で切り出した(1)～(3)の各データを以下のシートに貼り付けてください。
O53: (1) 社員情報データの切り出し
P54: 「3-1社員情報(PXから貼付)」シートへ
O55: (2) 給与支給実績データの切り出し
P56: 「3-2給与(PXから貼付)」シートへ
O57: (3) 賞与支給実績データの切り出し
O58: 3 賞与(PXから貼付) | P58: 「3-3賞与(PXから貼付)」シートへ
B62: 4 | C62: 「男女の賃金の差異」の確認
O63: (1) 以下のシートで、「男女の賃金の差異」（割合）をご確認ください。
P64: 「4男女の賃金の差異」シートへ
O65: (2) 給与・賞与の合計金額や「男女別」「役社員区分別」の集計状況など、集計途中の計算状況については、 以下のシートをご参照ください。
P67: 「【参考1】給与賞与計」シートへ
P68: 「【参考2】男女別・役社員区分別計」シートへ
P69: 「【参考3】男女別・役社員区分別要約」シートへ
O70: (3) 集計方法について ①給与・賞与 支給対象月分をもとに集計しています。 ②人員数 各月で、課税支給額が１円以上ある役社員を集計しています。 ③正規・非正規の集計 次のとおりです。必要に応じて「【参考3】男女別・役社員区分別サマリ」シートの「正規・非正規の区分」列 を直接編集してください。 なお、「役社員区分」は、事業年度内に異動がある場合でも切り出し時点の区分に基づきます。 1)正規 ：役社員区分が「役員」「兼務役員」「社員」 2)非正規：役社員区分が「嘱託」「パートアルバイト」「その他」

Sheet 2ＰＸからのデータの出力
A1: １．社員基本データの切り出し
A2: (1) 補助機能タブ「31 社員情報データの切り出し」メニューを選択 | AF2: (2) 切り出し対象社員の指定 | BK2: (3) 切り出し項目の選択
A30: ２．給与支給実績データの切り出し
A31: (1) 補助機能タブ「32 支給実績データの切り出し」メニューを選択 | AF31: (2) 切り出し対象社員の指定 | BK31: (3) 切り出し項目の選択
A60: ３．賞与支給実績データの切り出し
A61: (1) 補助機能タブ「32 支給実績データの切り出し」メニューを選択 | AF61: (2) 切り出し対象社員の指定 | BK61: (3) 切り出し項目の選択

Sheet 3-1社員情報(PXから貼付)
A1: 社員番号 | B1: 社員氏名 | C1: 性別 | D1: 役社員区分 | E1: 部課 | F1: 給与体系 | G1: 常勤・非常勤の別 | H1: 役職名 | I1: 職種 | J1: 職階 | K1: 勤続年数

Sheet 3-2給与(PXから貼付)
A1: 支給日 | B1: 対象月 | C1: 社員番号 | D1: 社員氏名 | E1: 社員部課 | F1: 社員体系 | G1: 課税支給額

Sheet 3-3賞与(PXから貼付)
A1: 支給日 | B1: 対象月 | C1: 社員番号 | D1: 社員氏名 | E1: 社員部課 | F1: 社員体系 | G1: 課税支給額

Sheet 4男女の賃金の差異
D1: 平均年間賃金(円) | F1: 男女の賃金の差異 (割合)
D2: 女性 | E2: 男性
C3: 正規 | D3: =IFERROR(AVERAGEIFS(【参考3】男女別・役社員区分別要約!$J$3:$J$8,【参考3】男女別・役社員区分別要約!$J$3:$J$8,">0",【参考3】男女別・役社員区分別要約!$A$3:$A$8,$C3),"－") -> － | E3: =IFERROR(AVERAGEIFS(【参考3】男女別・役社員区分別要約!$I$3:$I$8,【参考3】男女別・役社員区分別要約!$I$3:$I$8,">0",【参考3】男女別・役社員区分別要約!$A$3:$A$8,$C3),"－") -> － | F3: =IFERROR(ROUND(D3/E3,3),"－") -> －
C4: 非正規 | D4: =IFERROR(AVERAGEIFS(【参考3】男女別・役社員区分別要約!$J$3:$J$8,【参考3】男女別・役社員区分別要約!$J$3:$J$8,">0",【参考3】男女別・役社員区分別要約!$A$3:$A$8,$C4),"－") -> － | E4: =IFERROR(AVERAGEIFS(【参考3】男女別・役社員区分別要約!$I$3:$I$8,【参考3】男女別・役社員区分別要約!$I$3:$I$8,">0",【参考3】男女別・役社員区分別要約!$A$3:$A$8,$C4),"－") -> － | F4: =IFERROR(ROUND(D4/E4,3),"－") -> －
C5: すべて | D5: =IFERROR(AVERAGEIFS(【参考3】男女別・役社員区分別要約!$J$3:$J$8,【参考3】男女別・役社員区分別要約!$J$3:$J$8,">0",【参考3】男女別・役社員区分別要約!$A$3:$A$8,"*"),"－") -> － | E5: =IFERROR(AVERAGEIFS(【参考3】男女別・役社員区分別要約!$I$3:$I$8,【参考3】男女別・役社員区分別要約!$I$3:$I$8,">0",【参考3】男女別・役社員区分別要約!$A$3:$A$8,"*"),"－") -> － | F5: =IFERROR(ROUND(D5/E5,3),"－") -> －
D6: ※「―」(ハイフン)は、該当する労働者がいないため計算不可であることを表しています。
F7: (小数点第２位を四捨五入し、第１位までを表示)

Sheet 【参考1】給与賞与計
E1: 給与(単位：円) | S1: 賞与(単位：円)
A2: ='3-1社員情報(PXから貼付)'!A1 -> 社員番号 | B2: ='3-1社員情報(PXから貼付)'!B1 -> 社員氏名 | C2: ='3-1社員情報(PXから貼付)'!C1 -> 性別 | D2: ='3-1社員情報(PXから貼付)'!D1 -> 役社員区分 | E2: =IF(MONTH(はじめに・1基本情報の入力!$W$27)<10,TEXT(はじめに・1基本情報の入力!$W$27,"ggge年 m月"),TEXT(はじめに・1基本情報の入力!$W$27,"ggge年mm月")) -> 明治33年 1月 | F2: =IF(MONTH(EDATE(はじめに・1基本情報の入力!$W$27,1))<10,TEXT(TRIM(EDATE(はじめに・1基本情報の入力!$W$27,1)),"ggge年 m月"),TEXT(TRIM(EDATE(はじめに・1基本情報の入力!$W$27,1)),"ggge年mm月")) -> 明治33年 1月 | G2: =IF(MONTH(EDATE(はじめに・1基本情報の入力!$W$27,2))<10,TEXT(TRIM(EDATE(はじめに・1基本情報の入力!$W$27,2)),"ggge年 m月"),TEXT(TRIM(EDATE(はじめに・1基本情報の入力!$W$27,2)),"ggge年mm月")) -> 明治33年 2月 | H2: =IF(MONTH(EDATE(はじめに・1基本情報の入力!$W$27,3))<10,TEXT(TRIM(EDATE(はじめに・1基本情報の入力!$W$27,3)),"ggge年 m月"),TEXT(TRIM(EDATE(はじめに・1基本情報の入力!$W$27,3)),"ggge年mm月")) -> 明治33年 3月 | I2: =IF(MONTH(EDATE(はじめに・1基本情報の入力!$W$27,4))<10,TEXT(TRIM(EDATE(はじめに・1基本情報の入力!$W$27,4)),"ggge年 m月"),TEXT(TRIM(EDATE(はじめに・1基本情報の入力!$W$27,4)),"ggge年mm月")) -> 明治33年 4月 | J2: =IF(MONTH(EDATE(はじめに・1基本情報の入力!$W$27,5))<10,TEXT(TRIM(EDATE(はじめに・1基本情報の入力!$W$27,5)),"ggge年 m月"),TEXT(TRIM(EDATE(はじめに・1基本情報の入力!$W$27,5)),"ggge年mm月")) -> 明治33年 5月 | K2: =IF(MONTH(EDATE(はじめに・1基本情報の入力!$W$27,6))<10,TEXT(TRIM(EDATE(はじめに・1基本情報の入力!$W$27,6)),"ggge年 m月"),TEXT(TRIM(EDATE(はじめに・1基本情報の入力!$W$27,6)),"ggge年m月")) -> 明治33年 6月 | L2: =IF(MONTH(EDATE(はじめに・1基本情報の入力!$W$27,7))<10,TEXT(TRIM(EDATE(はじめに・1基本情報の入力!$W$27,7)),"ggge年 m月"),TEXT(TRIM(EDATE(はじめに・1基本情報の入力!$W$27,7)),"ggge年m月")) -> 明治33年 7月 | M2: =IF(MONTH(EDATE(はじめに・1基本情報の入力!$W$27,8))<10,TEXT(TRIM(EDATE(はじめに・1基本情報の入力!$W$27,8)),"ggge年 m月"),TEXT(TRIM(EDATE(はじめに・1基本情報の入力!$W$27,8)),"ggge年mm月")) -> 明治33年 8月 | N2: =IF(MONTH(EDATE(はじめに・1基本情報の入力!$W$27,9))<10,TEXT(TRIM(EDATE(はじめに・1基本情報の入力!$W$27,9)),"ggge年 m月"),TEXT(TRIM(EDATE(はじめに・1基本情報の入力!$W$27,9)),"ggge年mm月")) -> 明治33年 9月 | O2: =IF(MONTH(EDATE(はじめに・1基本情報の入力!$W$27,10))<10,TEXT(TRIM(EDATE(はじめに・1基本情報の入力!$W$27,10)),"ggge年 m月"),TEXT(TRIM(EDATE(はじめに・1基本情報の入力!$W$27,10)),"ggge年mm月")) -> 明治33年10月 | P2: =IF(MONTH(EDATE(はじめに・1基本情報の入力!$W$27,11))<10,TEXT(TRIM(EDATE(はじめに・1基本情報の入力!$W$27,11)),"ggge年 m月"),TEXT(TRIM(EDATE(はじめに・1基本情報の入力!$W$27,11)),"ggge年mm月")) -> 明治33年11月 | S2: =IF(MONTH(はじめに・1基本情報の入力!$W$27)<10,TEXT(はじめに・1基本情報の入力!$W$27,"ggge年 m月"),TEXT(はじめに・1基本情報の入力!$W$27,"ggge年mm月")) -> 明治33年 1月 | T2: =IF(MONTH(EDATE(はじめに・1基本情報の入力!$W$27,1))<10,TEXT(TRIM(EDATE(はじめに・1基本情報の入力!$W$27,1)),"ggge年 m月"),TEXT(TRIM(EDATE(はじめに・1基本情報の入力!$W$27,1)),"ggge年mm月")) -> 明治33年 1月 | U2: =IF(MONTH(EDATE(はじめに・1基本情報の入力!$W$27,2))<10,TEXT(TRIM(EDATE(はじめに・1基本情報の入力!$W$27,2)),"ggge年 m月"),TEXT(TRIM(EDATE(はじめに・1基本情報の入力!$W$27,2)),"ggge年mm月")) -> 明治33年 2月 | V2: =IF(MONTH(EDATE(はじめに・1基本情報の入力!$W$27,3))<10,TEXT(TRIM(EDATE(はじめに・1基本情報の入力!$W$27,3)),"ggge年 m月"),TEXT(TRIM(EDATE(はじめに・1基本情報の入力!$W$27,3)),"ggge年mm月")) -> 明治33年 3月 | W2: =IF(MONTH(EDATE(はじめに・1基本情報の入力!$W$27,4))<10,TEXT(TRIM(EDATE(はじめに・1基本情報の入力!$W$27,4)),"ggge年 m月"),TEXT(TRIM(EDATE(はじめに・1基本情報の入力!$W$27,4)),"ggge年mm月")) -> 明治33年 4月 | X2: =IF(MONTH(EDATE(はじめに・1基本情報の入力!$W$27,5))<10,TEXT(TRIM(EDATE(はじめに・1基本情報の入力!$W$27,5)),"ggge年 m月"),TEXT(TRIM(EDATE(はじめに・1基本情報の入力!$W$27,5)),"ggge年mm月")) -> 明治33年 5月 | Y2: =IF(MONTH(EDATE(はじめに・1基本情報の入力!$W$27,6))<10,TEXT(TRIM(EDATE(はじめに・1基本情報の入力!$W$27,6)),"ggge年 m月"),TEXT(TRIM(EDATE(はじめに・1基本情報の入力!$W$27,6)),"ggge年m月")) -> 明治33年 6月 | Z2: =IF(MONTH(EDATE(はじめに・1基本情報の入力!$W$27,7))<10,TEXT(TRIM(EDATE(はじめに・1基本情報の入力!$W$27,7)),"ggge年 m月"),TEXT(TRIM(EDATE(はじめに・1基本情報の入力!$W$27,7)),"ggge年m月")) -> 明治33年 7月 | AA2: =IF(MONTH(EDATE(はじめに・1基本情報の入力!$W$27,8))<10,TEXT(TRIM(EDATE(はじめに・1基本情報の入力!$W$27,8)),"ggge年 m月"),TEXT(TRIM(EDATE(はじめに・1基本情報の入力!$W$27,8)),"ggge年mm月")) -> 明治33年 8月 | AB2: =IF(MONTH(EDATE(はじめに・1基本情報の入力!$W$27,9))<10,TEXT(TRIM(EDATE(はじめに・1基本情報の入力!$W$27,9)),"ggge年 m月"),TEXT(TRIM(EDATE(はじめに・1基本情報の入力!$W$27,9)),"ggge年mm月")) -> 明治33年 9月 | AC2: =IF(MONTH(EDATE(はじめに・1基本情報の入力!$W$27,10))<10,TEXT(TRIM(EDATE(はじめに・1基本情報の入力!$W$27,10)),"ggge年 m月"),TEXT(TRIM(EDATE(はじめに・1基本情報の入力!$W$27,10)),"ggge年mm月")) -> 明治33年10月 | AD2: =IF(MONTH(EDATE(はじめに・1基本情報の入力!$W$27,11))<10,TEXT(TRIM(EDATE(はじめに・1基本情報の入力!$W$27,11)),"ggge年 m月"),TEXT(TRIM(EDATE(はじめに・1基本情報の入力!$W$27,11)),"ggge年mm月")) -> 明治33年11月
A3: ='3-1社員情報(PXから貼付)'!A2 -> 0 | B3: ='3-1社員情報(PXから貼付)'!B2 -> 0 | C3: ='3-1社員情報(PXから貼付)'!C2 -> 0 | D3: ='3-1社員情報(PXから貼付)'!D2 -> 0 | E3: =SUMIFS('3-2給与(PXから貼付)'!$G:$G,'3-2給与(PXから貼付)'!$C:$C,$A3,'3-2給与(PXから貼付)'!$B:$B,【参考1】給与賞与計!E$2) -> 0 | F3: =SUMIFS('3-2給与(PXから貼付)'!$G:$G,'3-2給与(PXから貼付)'!$C:$C,$A3,'3-2給与(PXから貼付)'!$B:$B,【参考1】給与賞与計!F$2) -> 0 | G3: =SUMIFS('3-2給与(PXから貼付)'!$G:$G,'3-2給与(PXから貼付)'!$C:$C,$A3,'3-2給与(PXから貼付)'!$B:$B,【参考1】給与賞与計!G$2) -> 0 | H3: =SUMIFS('3-2給与(PXから貼付)'!$G:$G,'3-2給与(PXから貼付)'!$C:$C,$A3,'3-2給与(PXから貼付)'!$B:$B,【参考1】給与賞与計!H$2) -> 0 | I3: =SUMIFS('3-2給与(PXから貼付)'!$G:$G,'3-2給与(PXから貼付)'!$C:$C,$A3,'3-2給与(PXから貼付)'!$B:$B,【参考1】給与賞与計!I$2) -> 0 | J3: =SUMIFS('3-2給与(PXから貼付)'!$G:$G,'3-2給与(PXから貼付)'!$C:$C,$A3,'3-2給与(PXから貼付)'!$B:$B,【参考1】給与賞与計!J$2) -> 0 | K3: =SUMIFS('3-2給与(PXから貼付)'!$G:$G,'3-2給与(PXから貼付)'!$C:$C,$A3,'3-2給与(PXから貼付)'!$B:$B,【参考1】給与賞与計!K$2) -> 0 | L3: =SUMIFS('3-2給与(PXから貼付)'!$G:$G,'3-2給与(PXから貼付)'!$C:$C,$A3,'3-2給与(PXから貼付)'!$B:$B,【参考1】給与賞与計!L$2) -> 0 | ... P3: =SUMIFS('3-2給与(PXから貼付)'!$G:$G,'3-2給与(PXから貼付)'!$C:$C,$A3,'3-2給与(PXから貼付)'!$B:$B,【参考1】給与賞与計!P$2) -> 0 | S3: =SUMIFS('3-3賞与(PXから貼付)'!$G:$G,'3-3賞与(PXから貼付)'!$C:$C,$A3,'3-3賞与(PXから貼付)'!$B:$B,【参考1】給与賞与計!S$2) -> 0 | T3: =SUMIFS('3-3賞与(PXから貼付)'!$G:$G,'3-3賞与(PXから貼付)'!$C:$C,$A3,'3-3賞与(PXから貼付)'!$B:$B,【参考1】給与賞与計!T$2) -> 0 | U3: =SUMIFS('3-3賞与(PXから貼付)'!$G:$G,'3-3賞与(PXから貼付)'!$C:$C,$A3,'3-3賞与(PXから貼付)'!$B:$B,【参考1】給与賞与計!U$2) -> 0 | V3: =SUMIFS('3-3賞与(PXから貼付)'!$G:$G,'3-3賞与(PXから貼付)'!$C:$C,$A3,'3-3賞与(PXから貼付)'!$B:$B,【参考1】給与賞与計!V$2) -> 0 | W3: =SUMIFS('3-3賞与(PXから貼付)'!$G:$G,'3-3賞与(PXから貼付)'!$C:$C,$A3,'3-3賞与(PXから貼付)'!$B:$B,【参考1】給与賞与計!W$2) -> 0 | X3: =SUMIFS('3-3賞与(PXから貼付)'!$G:$G,'3-3賞与(PXから貼付)'!$C:$C,$A3,'3-3賞与(PXから貼付)'!$B:$B,【参考1】給与賞与計!X$2) -> 0 | Y3: =SUMIFS('3-3賞与(PXから貼付)'!$G:$G,'3-3賞与(PXから貼付)'!$C:$C,$A3,'3-3賞与(PXから貼付)'!$B:$B,【参考1】給与賞与計!Y$2) -> 0 | Z3: =SUMIFS('3-3賞与(PXから貼付)'!$G:$G,'3-3賞与(PXから貼付)'!$C:$C,$A3,'3-3賞与(PXから貼付)'!$B:$B,【参考1】給与賞与計!Z$2) -> 0 | ... AD3: =SUMIFS('3-3賞与(PXから貼付)'!$G:$G,'3-3賞与(PXから貼付)'!$C:$C,$A3,'3-3賞与(PXから貼付)'!$B:$B,【参考1】給与賞与計!AD$2) -> 0
A4: ='3-1社員情報(PXから貼付)'!A3 -> 0 | B4: ='3-1社員情報(PXから貼付)'!B3 -> 0 | C4: ='3-1社員情報(PXから貼付)'!C3 -> 0 | D4: ='3-1社員情報(PXから貼付)'!D3 -> 0 | E4: =SUMIFS('3-2給与(PXから貼付)'!$G:$G,'3-2給与(PXから貼付)'!$C:$C,$A4,'3-2給与(PXから貼付)'!$B:$B,【参考1】給与賞与計!E$2) -> 0 | F4: =SUMIFS('3-2給与(PXから貼付)'!$G:$G,'3-2給与(PXから貼付)'!$C:$C,$A4,'3-2給与(PXから貼付)'!$B:$B,【参考1】給与賞与計!F$2) -> 0 | G4: =SUMIFS('3-2給与(PXから貼付)'!$G:$G,'3-2給与(PXから貼付)'!$C:$C,$A4,'3-2給与(PXから貼付)'!$B:$B,【参考1】給与賞与計!G$2) -> 0 | H4: =SUMIFS('3-2給与(PXから貼付)'!$G:$G,'3-2給与(PXから貼付)'!$C:$C,$A4,'3-2給与(PXから貼付)'!$B:$B,【参考1】給与賞与計!H$2) -> 0 | I4: =SUMIFS('3-2給与(PXから貼付)'!$G:$G,'3-2給与(PXから貼付)'!$C:$C,$A4,'3-2給与(PXから貼付)'!$B:$B,【参考1】給与賞与計!I$2) -> 0 | J4: =SUMIFS('3-2給与(PXから貼付)'!$G:$G,'3-2給与(PXから貼付)'!$C:$C,$A4,'3-2給与(PXから貼付)'!$B:$B,【参考1】給与賞与計!J$2) -> 0 | K4: =SUMIFS('3-2給与(PXから貼付)'!$G:$G,'3-2給与(PXから貼付)'!$C:$C,$A4,'3-2給与(PXから貼付)'!$B:$B,【参考1】給与賞与計!K$2) -> 0 | L4: =SUMIFS('3-2給与(PXから貼付)'!$G:$G,'3-2給与(PXから貼付)'!$C:$C,$A4,'3-2給与(PXから貼付)'!$B:$B,【参考1】給与賞与計!L$2) -> 0 | ... P4: =SUMIFS('3-2給与(PXから貼付)'!$G:$G,'3-2給与(PXから貼付)'!$C:$C,$A4,'3-2給与(PXから貼付)'!$B:$B,【参考1】給与賞与計!P$2) -> 0 | S4: =SUMIFS('3-3賞与(PXから貼付)'!$G:$G,'3-3賞与(PXから貼付)'!$C:$C,$A4,'3-3賞与(PXから貼付)'!$B:$B,【参考1】給与賞与計!S$2) -> 0 | T4: =SUMIFS('3-3賞与(PXから貼付)'!$G:$G,'3-3賞与(PXから貼付)'!$C:$C,$A4,'3-3賞与(PXから貼付)'!$B:$B,【参考1】給与賞与計!T$2) -> 0 | U4: =SUMIFS('3-3賞与(PXから貼付)'!$G:$G,'3-3賞与(PXから貼付)'!$C:$C,$A4,'3-3賞与(PXから貼付)'!$B:$B,【参考1】給与賞与計!U$2) -> 0 | V4: =SUMIFS('3-3賞与(PXから貼付)'!$G:$G,'3-3賞与(PXから貼付)'!$C:$C,$A4,'3-3賞与(PXから貼付)'!$B:$B,【参考1】給与賞与計!V$2) -> 0 | W4: =SUMIFS('3-3賞与(PXから貼付)'!$G:$G,'3-3賞与(PXから貼付)'!$C:$C,$A4,'3-3賞与(PXから貼付)'!$B:$B,【参考1】給与賞与計!W$2) -> 0 | X4: =SUMIFS('3-3賞与(PXから貼付)'!$G:$G,'3-3賞与(PXから貼付)'!$C:$C,$A4,'3-3賞与(PXから貼付)'!$B:$B,【参考1】給与賞与計!X$2) -> 0 | Y4: =SUMIFS('3-3賞与(PXから貼付)'!$G:$G,'3-3賞与(PXから貼付)'!$C:$C,$A4,'3-3賞与(PXから貼付)'!$B:$B,【参考1】給与賞与計!Y$2) -> 0 | Z4: =SUMIFS('3-3賞与(PXから貼付)'!$G:$G,'3-3賞与(PXから貼付)'!$C:$C,$A4,'3-3賞与(PXから貼付)'!$B:$B,【参考1】給与賞与計!Z$2) -> 0 | ... AD4: =SUMIFS('3-3賞与(PXから貼付)'!$G:$G,'3-3賞与(PXから貼付)'!$C:$C,$A4,'3-3賞与(PXから貼付)'!$B:$B,【参考1】給与賞与計!AD$2) -> 0
A5: ='3-1社員情報(PXから貼付)'!A4 -> 0 | B5: ='3-1社員情報(PXから貼付)'!B4 -> 0 | C5: ='3-1社員情報(PXから貼付)'!C4 -> 0 | D5: ='3-1社員情報(PXから貼付)'!D4 -> 0 | E5: =SUMIFS('3-2給与(PXから貼付)'!$G:$G,'3-2給与(PXから貼付)'!$C:$C,$A5,'3-2給与(PXから貼付)'!$B:$B,【参考1】給与賞与計!E$2) -> 0 | F5: =SUMIFS('3-2給与(PXから貼付)'!$G:$G,'3-2給与(PXから貼付)'!$C:$C,$A5,'3-2給与(PXから貼付)'!$B:$B,【参考1】給与賞与計!F$2) -> 0 | G5: =SUMIFS('3-2給与(PXから貼付)'!$G:$G,'3-2給与(PXから貼付)'!$C:$C,$A5,'3-2給与(PXから貼付)'!$B:$B,【参考1】給与賞与計!G$2) -> 0 | H5: =SUMIFS('3-2給与(PXから貼付)'!$G:$G,'3-2給与(PXから貼付)'!$C:$C,$A5,'3-2給与(PXから貼付)'!$B:$B,【参考1】給与賞与計!H$2) -> 0 | I5: =SUMIFS('3-2給与(PXから貼付)'!$G:$G,'3-2給与(PXから貼付)'!$C:$C,$A5,'3-2給与(PXから貼付)'!$B:$B,【参考1】給与賞与計!I$2) -> 0 | J5: =SUMIFS('3-2給与(PXから貼付)'!$G:$G,'3-2給与(PXから貼付)'!$C:$C,$A5,'3-2給与(PXから貼付)'!$B:$B,【参考1】給与賞与計!J$2) -> 0 | K5: =SUMIFS('3-2給与(PXから貼付)'!$G:$G,'3-2給与(PXから貼付)'!$C:$C,$A5,'3-2給与(PXから貼付)'!$B:$B,【参考1】給与賞与計!K$2) -> 0 | L5: =SUMIFS('3-2給与(PXから貼付)'!$G:$G,'3-2給与(PXから貼付)'!$C:$C,$A5,'3-2給与(PXから貼付)'!$B:$B,【参考1】給与賞与計!L$2) -> 0 | ... P5: =SUMIFS('3-2給与(PXから貼付)'!$G:$G,'3-2給与(PXから貼付)'!$C:$C,$A5,'3-2給与(PXから貼付)'!$B:$B,【参考1】給与賞与計!P$2) -> 0 | S5: =SUMIFS('3-3賞与(PXから貼付)'!$G:$G,'3-3賞与(PXから貼付)'!$C:$C,$A5,'3-3賞与(PXから貼付)'!$B:$B,【参考1】給与賞与計!S$2) -> 0 | T5: =SUMIFS('3-3賞与(PXから貼付)'!$G:$G,'3-3賞与(PXから貼付)'!$C:$C,$A5,'3-3賞与(PXから貼付)'!$B:$B,【参考1】給与賞与計!T$2) -> 0 | U5: =SUMIFS('3-3賞与(PXから貼付)'!$G:$G,'3-3賞与(PXから貼付)'!$C:$C,$A5,'3-3賞与(PXから貼付)'!$B:$B,【参考1】給与賞与計!U$2) -> 0 | V5: =SUMIFS('3-3賞与(PXから貼付)'!$G:$G,'3-3賞与(PXから貼付)'!$C:$C,$A5,'3-3賞与(PXから貼付)'!$B:$B,【参考1】給与賞与計!V$2) -> 0 | W5: =SUMIFS('3-3賞与(PXから貼付)'!$G:$G,'3-3賞与(PXから貼付)'!$C:$C,$A5,'3-3賞与(PXから貼付)'!$B:$B,【参考1】給与賞与計!W$2) -> 0 | X5: =SUMIFS('3-3賞与(PXから貼付)'!$G:$G,'3-3賞与(PXから貼付)'!$C:$C,$A5,'3-3賞与(PXから貼付)'!$B:$B,【参考1】給与賞与計!X$2) -> 0 | Y5: =SUMIFS('3-3賞与(PXから貼付)'!$G:$G,'3-3賞与(PXから貼付)'!$C:$C,$A5,'3-3賞与(PXから貼付)'!$B:$B,【参考1】給与賞与計!Y$2) -> 0 | Z5: =SUMIFS('3-3賞与(PXから貼付)'!$G:$G,'3-3賞与(PXから貼付)'!$C:$C,$A5,'3-3賞与(PXから貼付)'!$B:$B,【参考1】給与賞与計!Z$2) -> 0 | ... AD5: =SUMIFS('3-3賞与(PXから貼付)'!$G:$G,'3-3賞与(PXから貼付)'!$C:$C,$A5,'3-3賞与(PXから貼付)'!$B:$B,【参考1】給与賞与計!AD$2) -> 0
A6: ='3-1社員情報(PXから貼付)'!A5 -> 0 | B6: ='3-1社員情報(PXから貼付)'!B5 -> 0 | C6: ='3-1社員情報(PXから貼付)'!C5 -> 0 | D6: ='3-1社員情報(PXから貼付)'!D5 -> 0 | E6: =SUMIFS('3-2給与(PXから貼付)'!$G:$G,'3-2給与(PXから貼付)'!$C:$C,$A6,'3-2給与(PXから貼付)'!$B:$B,【参考1】給与賞与計!E$2) -> 0 | F6: =SUMIFS('3-2給与(PXから貼付)'!$G:$G,'3-2給与(PXから貼付)'!$C:$C,$A6,'3-2給与(PXから貼付)'!$B:$B,【参考1】給与賞与計!F$2) -> 0 | G6: =SUMIFS('3-2給与(PXから貼付)'!$G:$G,'3-2給与(PXから貼付)'!$C:$C,$A6,'3-2給与(PXから貼付)'!$B:$B,【参考1】給与賞与計!G$2) -> 0 | H6: =SUMIFS('3-2給与(PXから貼付)'!$G:$G,'3-2給与(PXから貼付)'!$C:$C,$A6,'3-2給与(PXから貼付)'!$B:$B,【参考1】給与賞与計!H$2) -> 0 | I6: =SUMIFS('3-2給与(PXから貼付)'!$G:$G,'3-2給与(PXから貼付)'!$C:$C,$A6,'3-2給与(PXから貼付)'!$B:$B,【参考1】給与賞与計!I$2) -> 0 | J6: =SUMIFS('3-2給与(PXから貼付)'!$G:$G,'3-2給与(PXから貼付)'!$C:$C,$A6,'3-2給与(PXから貼付)'!$B:$B,【参考1】給与賞与計!J$2) -> 0 | K6: =SUMIFS('3-2給与(PXから貼付)'!$G:$G,'3-2給与(PXから貼付)'!$C:$C,$A6,'3-2給与(PXから貼付)'!$B:$B,【参考1】給与賞与計!K$2) -> 0 | L6: =SUMIFS('3-2給与(PXから貼付)'!$G:$G,'3-2給与(PXから貼付)'!$C:$C,$A6,'3-2給与(PXから貼付)'!$B:$B,【参考1】給与賞与計!L$2) -> 0 | ... P6: =SUMIFS('3-2給与(PXから貼付)'!$G:$G,'3-2給与(PXから貼付)'!$C:$C,$A6,'3-2給与(PXから貼付)'!$B:$B,【参考1】給与賞与計!P$2) -> 0 | S6: =SUMIFS('3-3賞与(PXから貼付)'!$G:$G,'3-3賞与(PXから貼付)'!$C:$C,$A6,'3-3賞与(PXから貼付)'!$B:$B,【参考1】給与賞与計!S$2) -> 0 | T6: =SUMIFS('3-3賞与(PXから貼付)'!$G:$G,'3-3賞与(PXから貼付)'!$C:$C,$A6,'3-3賞与(PXから貼付)'!$B:$B,【参考1】給与賞与計!T$2) -> 0 | U6: =SUMIFS('3-3賞与(PXから貼付)'!$G:$G,'3-3賞与(PXから貼付)'!$C:$C,$A6,'3-3賞与(PXから貼付)'!$B:$B,【参考1】給与賞与計!U$2) -> 0 | V6: =SUMIFS('3-3賞与(PXから貼付)'!$G:$G,'3-3賞与(PXから貼付)'!$C:$C,$A6,'3-3賞与(PXから貼付)'!$B:$B,【参考1】給与賞与計!V$2) -> 0 | W6: =SUMIFS('3-3賞与(PXから貼付)'!$G:$G,'3-3賞与(PXから貼付)'!$C:$C,$A6,'3-3賞与(PXから貼付)'!$B:$B,【参考1】給与賞与計!W$2) -> 0 | X6: =SUMIFS('3-3賞与(PXから貼付)'!$G:$G,'3-3賞与(PXから貼付)'!$C:$C,$A6,'3-3賞与(PXから貼付)'!$B:$B,【参考1】給与賞与計!X$2) -> 0 | Y6: =SUMIFS('3-3賞与(PXから貼付)'!$G:$G,'3-3賞与(PXから貼付)'!$C:$C,$A6,'3-3賞与(PXから貼付)'!$B:$B,【参考1】給与賞与計!Y$2) -> 0 | Z6: =SUMIFS('3-3賞与(PXから貼付)'!$G:$G,'3-3賞与(PXから貼付)'!$C:$C,$A6,'3-3賞与(PXから貼付)'!$B:$B,【参考1】給与賞与計!Z$2) -> 0 | ... AD6: =SUMIFS('3-3賞与(PXから貼付)'!$G:$G,'3-3賞与(PXから貼付)'!$C:$C,$A6,'3-3賞与(PXから貼付)'!$B:$B,【参考1】給与賞与計!AD$2) -> 0
A7: ='3-1社員情報(PXから貼付)'!A6 -> 0 | B7: ='3-1社員情報(PXから貼付)'!B6 -> 0 | C7: ='3-1社員情報(PXから貼付)'!C6 -> 0 | D7: ='3-1社員情報(PXから貼付)'!D6 -> 0 | E7: =SUMIFS('3-2給与(PXから貼付)'!$G:$G,'3-2給与(PXから貼付)'!$C:$C,$A7,'3-2給与(PXから貼付)'!$B:$B,【参考1】給与賞与計!E$2) -> 0 | F7: =SUMIFS('3-2給与(PXから貼付)'!$G:$G,'3-2給与(PXから貼付)'!$C:$C,$A7,'3-2給与(PXから貼付)'!$B:$B,【参考1】給与賞与計!F$2) -> 0 | G7: =SUMIFS('3-2給与(PXから貼付)'!$G:$G,'3-2給与(PXから貼付)'!$C:$C,$A7,'3-2給与(PXから貼付)'!$B:$B,【参考1】給与賞与計!G$2) -> 0 | H7: =SUMIFS('3-2給与(PXから貼付)'!$G:$G,'3-2給与(PXから貼付)'!$C:$C,$A7,'3-2給与(PXから貼付)'!$B:$B,【参考1】給与賞与計!H$2) -> 0 | I7: =SUMIFS('3-2給与(PXから貼付)'!$G:$G,'3-2給与(PXから貼付)'!$C:$C,$A7,'3-2給与(PXから貼付)'!$B:$B,【参考1】給与賞与計!I$2) -> 0 | J7: =SUMIFS('3-2給与(PXから貼付)'!$G:$G,'3-2給与(PXから貼付)'!$C:$C,$A7,'3-2給与(PXから貼付)'!$B:$B,【参考1】給与賞与計!J$2) -> 0 | K7: =SUMIFS('3-2給与(PXから貼付)'!$G:$G,'3-2給与(PXから貼付)'!$C:$C,$A7,'3-2給与(PXから貼付)'!$B:$B,【参考1】給与賞与計!K$2) -> 0 | L7: =SUMIFS('3-2給与(PXから貼付)'!$G:$G,'3-2給与(PXから貼付)'!$C:$C,$A7,'3-2給与(PXから貼付)'!$B:$B,【参考1】給与賞与計!L$2) -> 0 | ... P7: =SUMIFS('3-2給与(PXから貼付)'!$G:$G,'3-2給与(PXから貼付)'!$C:$C,$A7,'3-2給与(PXから貼付)'!$B:$B,【参考1】給与賞与計!P$2) -> 0 | S7: =SUMIFS('3-3賞与(PXから貼付)'!$G:$G,'3-3賞与(PXから貼付)'!$C:$C,$A7,'3-3賞与(PXから貼付)'!$B:$B,【参考1】給与賞与計!S$2) -> 0 | T7: =SUMIFS('3-3賞与(PXから貼付)'!$G:$G,'3-3賞与(PXから貼付)'!$C:$C,$A7,'3-3賞与(PXから貼付)'!$B:$B,【参考1】給与賞与計!T$2) -> 0 | U7: =SUMIFS('3-3賞与(PXから貼付)'!$G:$G,'3-3賞与(PXから貼付)'!$C:$C,$A7,'3-3賞与(PXから貼付)'!$B:$B,【参考1】給与賞与計!U$2) -> 0 | V7: =SUMIFS('3-3賞与(PXから貼付)'!$G:$G,'3-3賞与(PXから貼付)'!$C:$C,$A7,'3-3賞与(PXから貼付)'!$B:$B,【参考1】給与賞与計!V$2) -> 0 | W7: =SUMIFS('3-3賞与(PXから貼付)'!$G:$G,'3-3賞与(PXから貼付)'!$C:$C,$A7,'3-3賞与(PXから貼付)'!$B:$B,【参考1】給与賞与計!W$2) -> 0 | X7: =SUMIFS('3-3賞与(PXから貼付)'!$G:$G,'3-3賞与(PXから貼付)'!$C:$C,$A7,'3-3賞与(PXから貼付)'!$B:$B,【参考1】給与賞与計!X$2) -> 0 | Y7: =SUMIFS('3-3賞与(PXから貼付)'!$G:$G,'3-3賞与(PXから貼付)'!$C:$C,$A7,'3-3賞与(PXから貼付)'!$B:$B,【参考1】給与賞与計!Y$2) -> 0 | Z7: =SUMIFS('3-3賞与(PXから貼付)'!$G:$G,'3-3賞与(PXから貼付)'!$C:$C,$A7,'3-3賞与(PXから貼付)'!$B:$B,【参考1】給与賞与計!Z$2) -> 0 | ... AD7: =SUMIFS('3-3賞与(PXから貼付)'!$G:$G,'3-3賞与(PXから貼付)'!$C:$C,$A7,'3-3賞与(PXから貼付)'!$B:$B,【参考1】給与賞与計!AD$2) -> 0
A8: ='3-1社員情報(PXから貼付)'!A7 -> 0 | B8: ='3-1社員情報(PXから貼付)'!B7 -> 0 | C8: ='3-1社員情報(PXから貼付)'!C7 -> 0 | D8: ='3-1社員情報(PXから貼付)'!D7 -> 0 | E8: =SUMIFS('3-2給与(PXから貼付)'!$G:$G,'3-2給与(PXから貼付)'!$C:$C,$A8,'3-2給与(PXから貼付)'!$B:$B,【参考1】給与賞与計!E$2) -> 0 | F8: =SUMIFS('3-2給与(PXから貼付)'!$G:$G,'3-2給与(PXから貼付)'!$C:$C,$A8,'3-2給与(PXから貼付)'!$B:$B,【参考1】給与賞与計!F$2) -> 0 | G8: =SUMIFS('3-2給与(PXから貼付)'!$G:$G,'3-2給与(PXから貼付)'!$C:$C,$A8,'3-2給与(PXから貼付)'!$B:$B,【参考1】給与賞与計!G$2) -> 0 | H8: =SUMIFS('3-2給与(PXから貼付)'!$G:$G,'3-2給与(PXから貼付)'!$C:$C,$A8,'3-2給与(PXから貼付)'!$B:$B,【参考1】給与賞与計!H$2) -> 0 | I8: =SUMIFS('3-2給与(PXから貼付)'!$G:$G,'3-2給与(PXから貼付)'!$C:$C,$A8,'3-2給与(PXから貼付)'!$B:$B,【参考1】給与賞与計!I$2) -> 0 | J8: =SUMIFS('3-2給与(PXから貼付)'!$G:$G,'3-2給与(PXから貼付)'!$C:$C,$A8,'3-2給与(PXから貼付)'!$B:$B,【参考1】給与賞与計!J$2) -> 0 | K8: =SUMIFS('3-2給与(PXから貼付)'!$G:$G,'3-2給与(PXから貼付)'!$C:$C,$A8,'3-2給与(PXから貼付)'!$B:$B,【参考1】給与賞与計!K$2) -> 0 | L8: =SUMIFS('3-2給与(PXから貼付)'!$G:$G,'3-2給与(PXから貼付)'!$C:$C,$A8,'3-2給与(PXから貼付)'!$B:$B,【参考1】給与賞与計!L$2) -> 0 | ... P8: =SUMIFS('3-2給与(PXから貼付)'!$G:$G,'3-2給与(PXから貼付)'!$C:$C,$A8,'3-2給与(PXから貼付)'!$B:$B,【参考1】給与賞与計!P$2) -> 0 | S8: =SUMIFS('3-3賞与(PXから貼付)'!$G:$G,'3-3賞与(PXから貼付)'!$C:$C,$A8,'3-3賞与(PXから貼付)'!$B:$B,【参考1】給与賞与計!S$2) -> 0 | T8: =SUMIFS('3-3賞与(PXから貼付)'!$G:$G,'3-3賞与(PXから貼付)'!$C:$C,$A8,'3-3賞与(PXから貼付)'!$B:$B,【参考1】給与賞与計!T$2) -> 0 | U8: =SUMIFS('3-3賞与(PXから貼付)'!$G:$G,'3-3賞与(PXから貼付)'!$C:$C,$A8,'3-3賞与(PXから貼付)'!$B:$B,【参考1】給与賞与計!U$2) -> 0 | V8: =SUMIFS('3-3賞与(PXから貼付)'!$G:$G,'3-3賞与(PXから貼付)'!$C:$C,$A8,'3-3賞与(PXから貼付)'!$B:$B,【参考1】給与賞与計!V$2) -> 0 | W8: =SUMIFS('3-3賞与(PXから貼付)'!$G:$G,'3-3賞与(PXから貼付)'!$C:$C,$A8,'3-3賞与(PXから貼付)'!$B:$B,【参考1】給与賞与計!W$2) -> 0 | X8: =SUMIFS('3-3賞与(PXから貼付)'!$G:$G,'3-3賞与(PXから貼付)'!$C:$C,$A8,'3-3賞与(PXから貼付)'!$B:$B,【参考1】給与賞与計!X$2) -> 0 | Y8: =SUMIFS('3-3賞与(PXから貼付)'!$G:$G,'3-3賞与(PXから貼付)'!$C:$C,$A8,'3-3賞与(PXから貼付)'!$B:$B,【参考1】給与賞与計!Y$2) -> 0 | Z8: =SUMIFS('3-3賞与(PXから貼付)'!$G:$G,'3-3賞与(PXから貼付)'!$C:$C,$A8,'3-3賞与(PXから貼付)'!$B:$B,【参考1】給与賞与計!Z$2) -> 0 | ... AD8: =SUMIFS('3-3賞与(PXから貼付)'!$G:$G,'3-3賞与(PXから貼付)'!$C:$C,$A8,'3-3賞与(PXから貼付)'!$B:$B,【参考1】給与賞与計!AD$2) -> 0
A9: ='3-1社員情報(PXから貼付)'!A8 -> 0 | B9: ='3-1社員情報(PXから貼付)'!B8 -> 0 | C9: ='3-1社員情報(PXから貼付)'!C8 -> 0 | D9: ='3-1社員情報(PXから貼付)'!D8 -> 0 | E9: =SUMIFS('3-2給与(PXから貼付)'!$G:$G,'3-2給与(PXから貼付)'!$C:$C,$A9,'3-2給与(PXから貼付)'!$B:$B,【参考1】給与賞与計!E$2) -> 0 | F9: =SUMIFS('3-2給与(PXから貼付)'!$G:$G,'3-2給与(PXから貼付)'!$C:$C,$A9,'3-2給与(PXから貼付)'!$B:$B,【参考1】給与賞与計!F$2) -> 0 | G9: =SUMIFS('3-2給与(PXから貼付)'!$G:$G,'3-2給与(PXから貼付)'!$C:$C,$A9,'3-2給与(PXから貼付)'!$B:$B,【参考1】給与賞与計!G$2) -> 0 | H9: =SUMIFS('3-2給与(PXから貼付)'!$G:$G,'3-2給与(PXから貼付)'!$C:$C,$A9,'3-2給与(PXから貼付)'!$B:$B,【参考1】給与賞与計!H$2) -> 0 | I9: =SUMIFS('3-2給与(PXから貼付)'!$G:$G,'3-2給与(PXから貼付)'!$C:$C,$A9,'3-2給与(PXから貼付)'!$B:$B,【参考1】給与賞与計!I$2) -> 0 | J9: =SUMIFS('3-2給与(PXから貼付)'!$G:$G,'3-2給与(PXから貼付)'!$C:$C,$A9,'3-2給与(PXから貼付)'!$B:$B,【参考1】給与賞与計!J$2) -> 0 | K9: =SUMIFS('3-2給与(PXから貼付)'!$G:$G,'3-2給与(PXから貼付)'!$C:$C,$A9,'3-2給与(PXから貼付)'!$B:$B,【参考1】給与賞与計!K$2) -> 0 | L9: =SUMIFS('3-2給与(PXから貼付)'!$G:$G,'3-2給与(PXから貼付)'!$C:$C,$A9,'3-2給与(PXから貼付)'!$B:$B,【参考1】給与賞与計!L$2) -> 0 | ... P9: =SUMIFS('3-2給与(PXから貼付)'!$G:$G,'3-2給与(PXから貼付)'!$C:$C,$A9,'3-2給与(PXから貼付)'!$B:$B,【参考1】給与賞与計!P$2) -> 0 | S9: =SUMIFS('3-3賞与(PXから貼付)'!$G:$G,'3-3賞与(PXから貼付)'!$C:$C,$A9,'3-3賞与(PXから貼付)'!$B:$B,【参考1】給与賞与計!S$2) -> 0 | T9: =SUMIFS('3-3賞与(PXから貼付)'!$G:$G,'3-3賞与(PXから貼付)'!$C:$C,$A9,'3-3賞与(PXから貼付)'!$B:$B,【参考1】給与賞与計!T$2) -> 0 | U9: =SUMIFS('3-3賞与(PXから貼付)'!$G:$G,'3-3賞与(PXから貼付)'!$C:$C,$A9,'3-3賞与(PXから貼付)'!$B:$B,【参考1】給与賞与計!U$2) -> 0 | V9: =SUMIFS('3-3賞与(PXから貼付)'!$G:$G,'3-3賞与(PXから貼付)'!$C:$C,$A9,'3-3賞与(PXから貼付)'!$B:$B,【参考1】給与賞与計!V$2) -> 0 | W9: =SUMIFS('3-3賞与(PXから貼付)'!$G:$G,'3-3賞与(PXから貼付)'!$C:$C,$A9,'3-3賞与(PXから貼付)'!$B:$B,【参考1】給与賞与計!W$2) -> 0 | X9: =SUMIFS('3-3賞与(PXから貼付)'!$G:$G,'3-3賞与(PXから貼付)'!$C:$C,$A9,'3-3賞与(PXから貼付)'!$B:$B,【参考1】給与賞与計!X$2) -> 0 | Y9: =SUMIFS('3-3賞与(PXから貼付)'!$G:$G,'3-3賞与(PXから貼付)'!$C:$C,$A9,'3-3賞与(PXから貼付)'!$B:$B,【参考1】給与賞与計!Y$2) -> 0 | Z9: =SUMIFS('3-3賞与(PXから貼付)'!$G:$G,'3-3賞与(PXから貼付)'!$C:$C,$A9,'3-3賞与(PXから貼付)'!$B:$B,【参考1】給与賞与計!Z$2) -> 0 | ... AD9: =SUMIFS('3-3賞与(PXから貼付)'!$G:$G,'3-3賞与(PXから貼付)'!$C:$C,$A9,'3-3賞与(PXから貼付)'!$B:$B,【参考1】給与賞与計!AD$2) -> 0
A10: ='3-1社員情報(PXから貼付)'!A9 -> 0 | B10: ='3-1社員情報(PXから貼付)'!B9 -> 0 | C10: ='3-1社員情報(PXから貼付)'!C9 -> 0 | D10: ='3-1社員情報(PXから貼付)'!D9 -> 0 | E10: =SUMIFS('3-2給与(PXから貼付)'!$G:$G,'3-2給与(PXから貼付)'!$C:$C,$A10,'3-2給与(PXから貼付)'!$B:$B,【参考1】給与賞与計!E$2) -> 0 | F10: =SUMIFS('3-2給与(PXから貼付)'!$G:$G,'3-2給与(PXから貼付)'!$C:$C,$A10,'3-2給与(PXから貼付)'!$B:$B,【参考1】給与賞与計!F$2) -> 0 | G10: =SUMIFS('3-2給与(PXから貼付)'!$G:$G,'3-2給与(PXから貼付)'!$C:$C,$A10,'3-2給与(PXから貼付)'!$B:$B,【参考1】給与賞与計!G$2) -> 0 | H10: =SUMIFS('3-2給与(PXから貼付)'!$G:$G,'3-2給与(PXから貼付)'!$C:$C,$A10,'3-2給与(PXから貼付)'!$B:$B,【参考1】給与賞与計!H$2) -> 0 | I10: =SUMIFS('3-2給与(PXから貼付)'!$G:$G,'3-2給与(PXから貼付)'!$C:$C,$A10,'3-2給与(PXから貼付)'!$B:$B,【参考1】給与賞与計!I$2) -> 0 | J10: =SUMIFS('3-2給与(PXから貼付)'!$G:$G,'3-2給与(PXから貼付)'!$C:$C,$A10,'3-2給与(PXから貼付)'!$B:$B,【参考1】給与賞与計!J$2) -> 0 | K10: =SUMIFS('3-2給与(PXから貼付)'!$G:$G,'3-2給与(PXから貼付)'!$C:$C,$A10,'3-2給与(PXから貼付)'!$B:$B,【参考1】給与賞与計!K$2) -> 0 | L10: =SUMIFS('3-2給与(PXから貼付)'!$G:$G,'3-2給与(PXから貼付)'!$C:$C,$A10,'3-2給与(PXから貼付)'!$B:$B,【参考1】給与賞与計!L$2) -> 0 | ... P10: =SUMIFS('3-2給与(PXから貼付)'!$G:$G,'3-2給与(PXから貼付)'!$C:$C,$A10,'3-2給与(PXから貼付)'!$B:$B,【参考1】給与賞与計!P$2) -> 0 | S10: =SUMIFS('3-3賞与(PXから貼付)'!$G:$G,'3-3賞与(PXから貼付)'!$C:$C,$A10,'3-3賞与(PXから貼付)'!$B:$B,【参考1】給与賞与計!S$2) -> 0 | T10: =SUMIFS('3-3賞与(PXから貼付)'!$G:$G,'3-3賞与(PXから貼付)'!$C:$C,$A10,'3-3賞与(PXから貼付)'!$B:$B,【参考1】給与賞与計!T$2) -> 0 | U10: =SUMIFS('3-3賞与(PXから貼付)'!$G:$G,'3-3賞与(PXから貼付)'!$C:$C,$A10,'3-3賞与(PXから貼付)'!$B:$B,【参考1】給与賞与計!U$2) -> 0 | V10: =SUMIFS('3-3賞与(PXから貼付)'!$G:$G,'3-3賞与(PXから貼付)'!$C:$C,$A10,'3-3賞与(PXから貼付)'!$B:$B,【参考1】給与賞与計!V$2) -> 0 | W10: =SUMIFS('3-3賞与(PXから貼付)'!$G:$G,'3-3賞与(PXから貼付)'!$C:$C,$A10,'3-3賞与(PXから貼付)'!$B:$B,【参考1】給与賞与計!W$2) -> 0 | X10: =SUMIFS('3-3賞与(PXから貼付)'!$G:$G,'3-3賞与(PXから貼付)'!$C:$C,$A10,'3-3賞与(PXから貼付)'!$B:$B,【参考1】給与賞与計!X$2) -> 0 | Y10: =SUMIFS('3-3賞与(PXから貼付)'!$G:$G,'3-3賞与(PXから貼付)'!$C:$C,$A10,'3-3賞与(PXから貼付)'!$B:$B,【参考1】給与賞与計!Y$2) -> 0 | Z10: =SUMIFS('3-3賞与(PXから貼付)'!$G:$G,'3-3賞与(PXから貼付)'!$C:$C,$A10,'3-3賞与(PXから貼付)'!$B:$B,【参考1】給与賞与計!Z$2) -> 0 | ... AD10: =SUMIFS('3-3賞与(PXから貼付)'!$G:$G,'3-3賞与(PXから貼付)'!$C:$C,$A10,'3-3賞与(PXから貼付)'!$B:$B,【参考1】給与賞与計!AD$2) -> 0
A11: ='3-1社員情報(PXから貼付)'!A10 -> 0 | B11: ='3-1社員情報(PXから貼付)'!B10 -> 0 | C11: ='3-1社員情報(PXから貼付)'!C10 -> 0 | D11: ='3-1社員情報(PXから貼付)'!D10 -> 0 | E11: =SUMIFS('3-2給与(PXから貼付)'!$G:$G,'3-2給与(PXから貼付)'!$C:$C,$A11,'3-2給与(PXから貼付)'!$B:$B,【参考1】給与賞与計!E$2) -> 0 | F11: =SUMIFS('3-2給与(PXから貼付)'!$G:$G,'3-2給与(PXから貼付)'!$C:$C,$A11,'3-2給与(PXから貼付)'!$B:$B,【参考1】給与賞与計!F$2) -> 0 | G11: =SUMIFS('3-2給与(PXから貼付)'!$G:$G,'3-2給与(PXから貼付)'!$C:$C,$A11,'3-2給与(PXから貼付)'!$B:$B,【参考1】給与賞与計!G$2) -> 0 | H11: =SUMIFS('3-2給与(PXから貼付)'!$G:$G,'3-2給与(PXから貼付)'!$C:$C,$A11,'3-2給与(PXから貼付)'!$B:$B,【参考1】給与賞与計!H$2) -> 0 | I11: =SUMIFS('3-2給与(PXから貼付)'!$G:$G,'3-2給与(PXから貼付)'!$C:$C,$A11,'3-2給与(PXから貼付)'!$B:$B,【参考1】給与賞与計!I$2) -> 0 | J11: =SUMIFS('3-2給与(PXから貼付)'!$G:$G,'3-2給与(PXから貼付)'!$C:$C,$A11,'3-2給与(PXから貼付)'!$B:$B,【参考1】給与賞与計!J$2) -> 0 | K11: =SUMIFS('3-2給与(PXから貼付)'!$G:$G,'3-2給与(PXから貼付)'!$C:$C,$A11,'3-2給与(PXから貼付)'!$B:$B,【参考1】給与賞与計!K$2) -> 0 | L11: =SUMIFS('3-2給与(PXから貼付)'!$G:$G,'3-2給与(PXから貼付)'!$C:$C,$A11,'3-2給与(PXから貼付)'!$B:$B,【参考1】給与賞与計!L$2) -> 0 | ... P11: =SUMIFS('3-2給与(PXから貼付)'!$G:$G,'3-2給与(PXから貼付)'!$C:$C,$A11,'3-2給与(PXから貼付)'!$B:$B,【参考1】給与賞与計!P$2) -> 0 | S11: =SUMIFS('3-3賞与(PXから貼付)'!$G:$G,'3-3賞与(PXから貼付)'!$C:$C,$A11,'3-3賞与(PXから貼付)'!$B:$B,【参考1】給与賞与計!S$2) -> 0 | T11: =SUMIFS('3-3賞与(PXから貼付)'!$G:$G,'3-3賞与(PXから貼付)'!$C:$C,$A11,'3-3賞与(PXから貼付)'!$B:$B,【参考1】給与賞与計!T$2) -> 0 | U11: =SUMIFS('3-3賞与(PXから貼付)'!$G:$G,'3-3賞与(PXから貼付)'!$C:$C,$A11,'3-3賞与(PXから貼付)'!$B:$B,【参考1】給与賞与計!U$2) -> 0 | V11: =SUMIFS('3-3賞与(PXから貼付)'!$G:$G,'3-3賞与(PXから貼付)'!$C:$C,$A11,'3-3賞与(PXから貼付)'!$B:$B,【参考1】給与賞与計!V$2) -> 0 | W11: =SUMIFS('3-3賞与(PXから貼付)'!$G:$G,'3-3賞与(PXから貼付)'!$C:$C,$A11,'3-3賞与(PXから貼付)'!$B:$B,【参考1】給与賞与計!W$2) -> 0 | X11: =SUMIFS('3-3賞与(PXから貼付)'!$G:$G,'3-3賞与(PXから貼付)'!$C:$C,$A11,'3-3賞与(PXから貼付)'!$B:$B,【参考1】給与賞与計!X$2) -> 0 | Y11: =SUMIFS('3-3賞与(PXから貼付)'!$G:$G,'3-3賞与(PXから貼付)'!$C:$C,$A11,'3-3賞与(PXから貼付)'!$B:$B,【参考1】給与賞与計!Y$2) -> 0 | Z11: =SUMIFS('3-3賞与(PXから貼付)'!$G:$G,'3-3賞与(PXから貼付)'!$C:$C,$A11,'3-3賞与(PXから貼付)'!$B:$B,【参考1】給与賞与計!Z$2) -> 0 | ... AD11: =SUMIFS('3-3賞与(PXから貼付)'!$G:$G,'3-3賞与(PXから貼付)'!$C:$C,$A11,'3-3賞与(PXから貼付)'!$B:$B,【参考1】給与賞与計!AD$2) -> 0
A12: ='3-1社員情報(PXから貼付)'!A11 -> 0 | B12: ='3-1社員情報(PXから貼付)'!B11 -> 0 | C12: ='3-1社員情報(PXから貼付)'!C11 -> 0 | D12: ='3-1社員情報(PXから貼付)'!D11 -> 0 | E12: =SUMIFS('3-2給与(PXから貼付)'!$G:$G,'3-2給与(PXから貼付)'!$C:$C,$A12,'3-2給与(PXから貼付)'!$B:$B,【参考1】給与賞与計!E$2) -> 0 | F12: =SUMIFS('3-2給与(PXから貼付)'!$G:$G,'3-2給与(PXから貼付)'!$C:$C,$A12,'3-2給与(PXから貼付)'!$B:$B,【参考1】給与賞与計!F$2) -> 0 | G12: =SUMIFS('3-2給与(PXから貼付)'!$G:$G,'3-2給与(PXから貼付)'!$C:$C,$A12,'3-2給与(PXから貼付)'!$B:$B,【参考1】給与賞与計!G$2) -> 0 | H12: =SUMIFS('3-2給与(PXから貼付)'!$G:$G,'3-2給与(PXから貼付)'!$C:$C,$A12,'3-2給与(PXから貼付)'!$B:$B,【参考1】給与賞与計!H$2) -> 0 | I12: =SUMIFS('3-2給与(PXから貼付)'!$G:$G,'3-2給与(PXから貼付)'!$C:$C,$A12,'3-2給与(PXから貼付)'!$B:$B,【参考1】給与賞与計!I$2) -> 0 | J12: =SUMIFS('3-2給与(PXから貼付)'!$G:$G,'3-2給与(PXから貼付)'!$C:$C,$A12,'3-2給与(PXから貼付)'!$B:$B,【参考1】給与賞与計!J$2) -> 0 | K12: =SUMIFS('3-2給与(PXから貼付)'!$G:$G,'3-2給与(PXから貼付)'!$C:$C,$A12,'3-2給与(PXから貼付)'!$B:$B,【参考1】給与賞与計!K$2) -> 0 | L12: =SUMIFS('3-2給与(PXから貼付)'!$G:$G,'3-2給与(PXから貼付)'!$C:$C,$A12,'3-2給与(PXから貼付)'!$B:$B,【参考1】給与賞与計!L$2) -> 0 | ... P12: =SUMIFS('3-2給与(PXから貼付)'!$G:$G,'3-2給与(PXから貼付)'!$C:$C,$A12,'3-2給与(PXから貼付)'!$B:$B,【参考1】給与賞与計!P$2) -> 0 | S12: =SUMIFS('3-3賞与(PXから貼付)'!$G:$G,'3-3賞与(PXから貼付)'!$C:$C,$A12,'3-3賞与(PXから貼付)'!$B:$B,【参考1】給与賞与計!S$2) -> 0 | T12: =SUMIFS('3-3賞与(PXから貼付)'!$G:$G,'3-3賞与(PXから貼付)'!$C:$C,$A12,'3-3賞与(PXから貼付)'!$B:$B,【参考1】給与賞与計!T$2) -> 0 | U12: =SUMIFS('3-3賞与(PXから貼付)'!$G:$G,'3-3賞与(PXから貼付)'!$C:$C,$A12,'3-3賞与(PXから貼付)'!$B:$B,【参考1】給与賞与計!U$2) -> 0 | V12: =SUMIFS('3-3賞与(PXから貼付)'!$G:$G,'3-3賞与(PXから貼付)'!$C:$C,$A12,'3-3賞与(PXから貼付)'!$B:$B,【参考1】給与賞与計!V$2) -> 0 | W12: =SUMIFS('3-3賞与(PXから貼付)'!$G:$G,'3-3賞与(PXから貼付)'!$C:$C,$A12,'3-3賞与(PXから貼付)'!$B:$B,【参考1】給与賞与計!W$2) -> 0 | X12: =SUMIFS('3-3賞与(PXから貼付)'!$G:$G,'3-3賞与(PXから貼付)'!$C:$C,$A12,'3-3賞与(PXから貼付)'!$B:$B,【参考1】給与賞与計!X$2) -> 0 | Y12: =SUMIFS('3-3賞与(PXから貼付)'!$G:$G,'3-3賞与(PXから貼付)'!$C:$C,$A12,'3-3賞与(PXから貼付)'!$B:$B,【参考1】給与賞与計!Y$2) -> 0 | Z12: =SUMIFS('3-3賞与(PXから貼付)'!$G:$G,'3-3賞与(PXから貼付)'!$C:$C,$A12,'3-3賞与(PXから貼付)'!$B:$B,【参考1】給与賞与計!Z$2) -> 0 | ... AD12: =SUMIFS('3-3賞与(PXから貼付)'!$G:$G,'3-3賞与(PXから貼付)'!$C:$C,$A12,'3-3賞与(PXから貼付)'!$B:$B,【参考1】給与賞与計!AD$2) -> 0
A13: ='3-1社員情報(PXから貼付)'!A12 -> 0 | B13: ='3-1社員情報(PXから貼付)'!B12 -> 0 | C13: ='3-1社員情報(PXから貼付)'!C12 -> 0 | D13: ='3-1社員情報(PXから貼付)'!D12 -> 0 | E13: =SUMIFS('3-2給与(PXから貼付)'!$G:$G,'3-2給与(PXから貼付)'!$C:$C,$A13,'3-2給与(PXから貼付)'!$B:$B,【参考1】給与賞与計!E$2) -> 0 | F13: =SUMIFS('3-2給与(PXから貼付)'!$G:$G,'3-2給与(PXから貼付)'!$C:$C,$A13,'3-2給与(PXから貼付)'!$B:$B,【参考1】給与賞与計!F$2) -> 0 | G13: =SUMIFS('3-2給与(PXから貼付)'!$G:$G,'3-2給与(PXから貼付)'!$C:$C,$A13,'3-2給与(PXから貼付)'!$B:$B,【参考1】給与賞与計!G$2) -> 0 | H13: =SUMIFS('3-2給与(PXから貼付)'!$G:$G,'3-2給与(PXから貼付)'!$C:$C,$A13,'3-2給与(PXから貼付)'!$B:$B,【参考1】給与賞与計!H$2) -> 0 | I13: =SUMIFS('3-2給与(PXから貼付)'!$G:$G,'3-2給与(PXから貼付)'!$C:$C,$A13,'3-2給与(PXから貼付)'!$B:$B,【参考1】給与賞与計!I$2) -> 0 | J13: =SUMIFS('3-2給与(PXから貼付)'!$G:$G,'3-2給与(PXから貼付)'!$C:$C,$A13,'3-2給与(PXから貼付)'!$B:$B,【参考1】給与賞与計!J$2) -> 0 | K13: =SUMIFS('3-2給与(PXから貼付)'!$G:$G,'3-2給与(PXから貼付)'!$C:$C,$A13,'3-2給与(PXから貼付)'!$B:$B,【参考1】給与賞与計!K$2) -> 0 | L13: =SUMIFS('3-2給与(PXから貼付)'!$G:$G,'3-2給与(PXから貼付)'!$C:$C,$A13,'3-2給与(PXから貼付)'!$B:$B,【参考1】給与賞与計!L$2) -> 0 | ... P13: =SUMIFS('3-2給与(PXから貼付)'!$G:$G,'3-2給与(PXから貼付)'!$C:$C,$A13,'3-2給与(PXから貼付)'!$B:$B,【参考1】給与賞与計!P$2) -> 0 | S13: =SUMIFS('3-3賞与(PXから貼付)'!$G:$G,'3-3賞与(PXから貼付)'!$C:$C,$A13,'3-3賞与(PXから貼付)'!$B:$B,【参考1】給与賞与計!S$2) -> 0 | T13: =SUMIFS('3-3賞与(PXから貼付)'!$G:$G,'3-3賞与(PXから貼付)'!$C:$C,$A13,'3-3賞与(PXから貼付)'!$B:$B,【参考1】給与賞与計!T$2) -> 0 | U13: =SUMIFS('3-3賞与(PXから貼付)'!$G:$G,'3-3賞与(PXから貼付)'!$C:$C,$A13,'3-3賞与(PXから貼付)'!$B:$B,【参考1】給与賞与計!U$2) -> 0 | V13: =SUMIFS('3-3賞与(PXから貼付)'!$G:$G,'3-3賞与(PXから貼付)'!$C:$C,$A13,'3-3賞与(PXから貼付)'!$B:$B,【参考1】給与賞与計!V$2) -> 0 | W13: =SUMIFS('3-3賞与(PXから貼付)'!$G:$G,'3-3賞与(PXから貼付)'!$C:$C,$A13,'3-3賞与(PXから貼付)'!$B:$B,【参考1】給与賞与計!W$2) -> 0 | X13: =SUMIFS('3-3賞与(PXから貼付)'!$G:$G,'3-3賞与(PXから貼付)'!$C:$C,$A13,'3-3賞与(PXから貼付)'!$B:$B,【参考1】給与賞与計!X$2) -> 0 | Y13: =SUMIFS('3-3賞与(PXから貼付)'!$G:$G,'3-3賞与(PXから貼付)'!$C:$C,$A13,'3-3賞与(PXから貼付)'!$B:$B,【参考1】給与賞与計!Y$2) -> 0 | Z13: =SUMIFS('3-3賞与(PXから貼付)'!$G:$G,'3-3賞与(PXから貼付)'!$C:$C,$A13,'3-3賞与(PXから貼付)'!$B:$B,【参考1】給与賞与計!Z$2) -> 0 | ... AD13: =SUMIFS('3-3賞与(PXから貼付)'!$G:$G,'3-3賞与(PXから貼付)'!$C:$C,$A13,'3-3賞与(PXから貼付)'!$B:$B,【参考1】給与賞与計!AD$2) -> 0
A14: ='3-1社員情報(PXから貼付)'!A13 -> 0 | B14: ='3-1社員情報(PXから貼付)'!B13 -> 0 | C14: ='3-1社員情報(PXから貼付)'!C13 -> 0 | D14: ='3-1社員情報(PXから貼付)'!D13 -> 0 | E14: =SUMIFS('3-2給与(PXから貼付)'!$G:$G,'3-2給与(PXから貼付)'!$C:$C,$A14,'3-2給与(PXから貼付)'!$B:$B,【参考1】給与賞与計!E$2) -> 0 | F14: =SUMIFS('3-2給与(PXから貼付)'!$G:$G,'3-2給与(PXから貼付)'!$C:$C,$A14,'3-2給与(PXから貼付)'!$B:$B,【参考1】給与賞与計!F$2) -> 0 | G14: =SUMIFS('3-2給与(PXから貼付)'!$G:$G,'3-2給与(PXから貼付)'!$C:$C,$A14,'3-2給与(PXから貼付)'!$B:$B,【参考1】給与賞与計!G$2) -> 0 | H14: =SUMIFS('3-2給与(PXから貼付)'!$G:$G,'3-2給与(PXから貼付)'!$C:$C,$A14,'3-2給与(PXから貼付)'!$B:$B,【参考1】給与賞与計!H$2) -> 0 | I14: =SUMIFS('3-2給与(PXから貼付)'!$G:$G,'3-2給与(PXから貼付)'!$C:$C,$A14,'3-2給与(PXから貼付)'!$B:$B,【参考1】給与賞与計!I$2) -> 0 | J14: =SUMIFS('3-2給与(PXから貼付)'!$G:$G,'3-2給与(PXから貼付)'!$C:$C,$A14,'3-2給与(PXから貼付)'!$B:$B,【参考1】給与賞与計!J$2) -> 0 | K14: =SUMIFS('3-2給与(PXから貼付)'!$G:$G,'3-2給与(PXから貼付)'!$C:$C,$A14,'3-2給与(PXから貼付)'!$B:$B,【参考1】給与賞与計!K$2) -> 0 | L14: =SUMIFS('3-2給与(PXから貼付)'!$G:$G,'3-2給与(PXから貼付)'!$C:$C,$A14,'3-2給与(PXから貼付)'!$B:$B,【参考1】給与賞与計!L$2) -> 0 | ... P14: =SUMIFS('3-2給与(PXから貼付)'!$G:$G,'3-2給与(PXから貼付)'!$C:$C,$A14,'3-2給与(PXから貼付)'!$B:$B,【参考1】給与賞与計!P$2) -> 0 | S14: =SUMIFS('3-3賞与(PXから貼付)'!$G:$G,'3-3賞与(PXから貼付)'!$C:$C,$A14,'3-3賞与(PXから貼付)'!$B:$B,【参考1】給与賞与計!S$2) -> 0 | T14: =SUMIFS('3-3賞与(PXから貼付)'!$G:$G,'3-3賞与(PXから貼付)'!$C:$C,$A14,'3-3賞与(PXから貼付)'!$B:$B,【参考1】給与賞与計!T$2) -> 0 | U14: =SUMIFS('3-3賞与(PXから貼付)'!$G:$G,'3-3賞与(PXから貼付)'!$C:$C,$A14,'3-3賞与(PXから貼付)'!$B:$B,【参考1】給与賞与計!U$2) -> 0 | V14: =SUMIFS('3-3賞与(PXから貼付)'!$G:$G,'3-3賞与(PXから貼付)'!$C:$C,$A14,'3-3賞与(PXから貼付)'!$B:$B,【参考1】給与賞与計!V$2) -> 0 | W14: =SUMIFS('3-3賞与(PXから貼付)'!$G:$G,'3-3賞与(PXから貼付)'!$C:$C,$A14,'3-3賞与(PXから貼付)'!$B:$B,【参考1】給与賞与計!W$2) -> 0 | X14: =SUMIFS('3-3賞与(PXから貼付)'!$G:$G,'3-3賞与(PXから貼付)'!$C:$C,$A14,'3-3賞与(PXから貼付)'!$B:$B,【参考1】給与賞与計!X$2) -> 0 | Y14: =SUMIFS('3-3賞与(PXから貼付)'!$G:$G,'3-3賞与(PXから貼付)'!$C:$C,$A14,'3-3賞与(PXから貼付)'!$B:$B,【参考1】給与賞与計!Y$2) -> 0 | Z14: =SUMIFS('3-3賞与(PXから貼付)'!$G:$G,'3-3賞与(PXから貼付)'!$C:$C,$A14,'3-3賞与(PXから貼付)'!$B:$B,【参考1】給与賞与計!Z$2) -> 0 | ... AD14: =SUMIFS('3-3賞与(PXから貼付)'!$G:$G,'3-3賞与(PXから貼付)'!$C:$C,$A14,'3-3賞与(PXから貼付)'!$B:$B,【参考1】給与賞与計!AD$2) -> 0
... A1003: ='3-1社員情報(PXから貼付)'!A1002 -> 0 | B1003: ='3-1社員情報(PXから貼付)'!B1002 -> 0 | C1003: ='3-1社員情報(PXから貼付)'!C1002 -> 0 | D1003: ='3-1社員情報(PXから貼付)'!D1002 -> 0 | E1003: =SUMIFS('3-2給与(PXから貼付)'!$G:$G,'3-2給与(PXから貼付)'!$C:$C,$A1003,'3-2給与(PXから貼付)'!$B:$B,【参考1】給与賞与計!E$2) -> 0 | F1003: =SUMIFS('3-2給与(PXから貼付)'!$G:$G,'3-2給与(PXから貼付)'!$C:$C,$A1003,'3-2給与(PXから貼付)'!$B:$B,【参考1】給与賞与計!F$2) -> 0 | G1003: =SUMIFS('3-2給与(PXから貼付)'!$G:$G,'3-2給与(PXから貼付)'!$C:$C,$A1003,'3-2給与(PXから貼付)'!$B:$B,【参考1】給与賞与計!G$2) -> 0 | H1003: =SUMIFS('3-2給与(PXから貼付)'!$G:$G,'3-2給与(PXから貼付)'!$C:$C,$A1003,'3-2給与(PXから貼付)'!$B:$B,【参考1】給与賞与計!H$2) -> 0 | I1003: =SUMIFS('3-2給与(PXから貼付)'!$G:$G,'3-2給与(PXから貼付)'!$C:$C,$A1003,'3-2給与(PXから貼付)'!$B:$B,【参考1】給与賞与計!I$2) -> 0 | J1003: =SUMIFS('3-2給与(PXから貼付)'!$G:$G,'3-2給与(PXから貼付)'!$C:$C,$A1003,'3-2給与(PXから貼付)'!$B:$B,【参考1】給与賞与計!J$2) -> 0 | K1003: =SUMIFS('3-2給与(PXから貼付)'!$G:$G,'3-2給与(PXから貼付)'!$C:$C,$A1003,'3-2給与(PXから貼付)'!$B:$B,【参考1】給与賞与計!K$2) -> 0 | L1003: =SUMIFS('3-2給与(PXから貼付)'!$G:$G,'3-2給与(PXから貼付)'!$C:$C,$A1003,'3-2給与(PXから貼付)'!$B:$B,【参考1】給与賞与計!L$2) -> 0 | ... P1003: =SUMIFS('3-2給与(PXから貼付)'!$G:$G,'3-2給与(PXから貼付)'!$C:$C,$A1003,'3-2給与(PXから貼付)'!$B:$B,【参考1】給与賞与計!P$2) -> 0 | S1003: =SUMIFS('3-3賞与(PXから貼付)'!$G:$G,'3-3賞与(PXから貼付)'!$C:$C,$A1003,'3-3賞与(PXから貼付)'!$B:$B,【参考1】給与賞与計!S$2) -> 0 | T1003: =SUMIFS('3-3賞与(PXから貼付)'!$G:$G,'3-3賞与(PXから貼付)'!$C:$C,$A1003,'3-3賞与(PXから貼付)'!$B:$B,【参考1】給与賞与計!T$2) -> 0 | U1003: =SUMIFS('3-3賞与(PXから貼付)'!$G:$G,'3-3賞与(PXから貼付)'!$C:$C,$A1003,'3-3賞与(PXから貼付)'!$B:$B,【参考1】給与賞与計!U$2) -> 0 | V1003: =SUMIFS('3-3賞与(PXから貼付)'!$G:$G,'3-3賞与(PXから貼付)'!$C:$C,$A1003,'3-3賞与(PXから貼付)'!$B:$B,【参考1】給与賞与計!V$2) -> 0 | W1003: =SUMIFS('3-3賞与(PXから貼付)'!$G:$G,'3-3賞与(PXから貼付)'!$C:$C,$A1003,'3-3賞与(PXから貼付)'!$B:$B,【参考1】給与賞与計!W$2) -> 0 | X1003: =SUMIFS('3-3賞与(PXから貼付)'!$G:$G,'3-3賞与(PXから貼付)'!$C:$C,$A1003,'3-3賞与(PXから貼付)'!$B:$B,【参考1】給与賞与計!X$2) -> 0 | Y1003: =SUMIFS('3-3賞与(PXから貼付)'!$G:$G,'3-3賞与(PXから貼付)'!$C:$C,$A1003,'3-3賞与(PXから貼付)'!$B:$B,【参考1】給与賞与計!Y$2) -> 0 | Z1003: =SUMIFS('3-3賞与(PXから貼付)'!$G:$G,'3-3賞与(PXから貼付)'!$C:$C,$A1003,'3-3賞与(PXから貼付)'!$B:$B,【参考1】給与賞与計!Z$2) -> 0 | ... AD1003: =SUMIFS('3-3賞与(PXから貼付)'!$G:$G,'3-3賞与(PXから貼付)'!$C:$C,$A1003,'3-3賞与(PXから貼付)'!$B:$B,【参考1】給与賞与計!AD$2) -> 0

Sheet 【参考2】男女別・役社員区分別計
C1: 総賃金（給与賞与計、単位：円） | S1: 人員数(給与のみ集計、重複を除く延べ数、単位：人) | AI1: 各月の平均賃金(円)
C2: =【参考1】給与賞与計!E$2 -> 明治33年 1月 | D2: =【参考1】給与賞与計!F$2 -> 明治33年 1月 | E2: =【参考1】給与賞与計!G$2 -> 明治33年 2月 | F2: =【参考1】給与賞与計!H$2 -> 明治33年 3月 | G2: =【参考1】給与賞与計!I$2 -> 明治33年 4月 | H2: =【参考1】給与賞与計!J$2 -> 明治33年 5月 | I2: =【参考1】給与賞与計!K$2 -> 明治33年 6月 | J2: =【参考1】給与賞与計!L$2 -> 明治33年 7月 | ... N2: =【参考1】給与賞与計!P$2 -> 明治33年11月 | O2: 合計(円) | S2: =【参考1】給与賞与計!E$2 -> 明治33年 1月 | T2: =【参考1】給与賞与計!F$2 -> 明治33年 1月 | U2: =【参考1】給与賞与計!G$2 -> 明治33年 2月 | V2: =【参考1】給与賞与計!H$2 -> 明治33年 3月 | W2: =【参考1】給与賞与計!I$2 -> 明治33年 4月 | X2: =【参考1】給与賞与計!J$2 -> 明治33年 5月 | Y2: =【参考1】給与賞与計!K$2 -> 明治33年 6月 | Z2: =【参考1】給与賞与計!L$2 -> 明治33年 7月 | ... AD2: =【参考1】給与賞与計!P$2 -> 明治33年11月 | AE2: 合計(人) | AI2: =【参考1】給与賞与計!E$2 -> 明治33年 1月 | AJ2: =【参考1】給与賞与計!F$2 -> 明治33年 1月 | AK2: =【参考1】給与賞与計!G$2 -> 明治33年 2月 | AL2: =【参考1】給与賞与計!H$2 -> 明治33年 3月 | AM2: =【参考1】給与賞与計!I$2 -> 明治33年 4月 | AN2: =【参考1】給与賞与計!J$2 -> 明治33年 5月 | AO2: =【参考1】給与賞与計!K$2 -> 明治33年 6月 | AP2: =【参考1】給与賞与計!L$2 -> 明治33年 7月 | ... AT2: =【参考1】給与賞与計!P$2 -> 明治33年11月 | AU2: 合計(円)
A3: 男性 | B3: 役員 | C3: =SUMIFS(【参考1】給与賞与計!E$3:E$1002,【参考1】給与賞与計!$C$3:$C$1002,"男性",【参考1】給与賞与計!$D$3:$D$1002,$B3)+SUMIFS(【参考1】給与賞与計!S$3:S$1002,【参考1】給与賞与計!$C$3:$C$1002,"男性",【参考1】給与賞与計!$D$3:$D$1002,$B3) -> 0 | D3: =SUMIFS(【参考1】給与賞与計!F$3:F$1002,【参考1】給与賞与計!$C$3:$C$1002,"男性",【参考1】給与賞与計!$D$3:$D$1002,$B3)+SUMIFS(【参考1】給与賞与計!T$3:T$1002,【参考1】給与賞与計!$C$3:$C$1002,"男性",【参考1】給与賞与計!$D$3:$D$1002,$B3) -> 0 | E3: =SUMIFS(【参考1】給与賞与計!G$3:G$1002,【参考1】給与賞与計!$C$3:$C$1002,"男性",【参考1】給与賞与計!$D$3:$D$1002,$B3)+SUMIFS(【参考1】給与賞与計!U$3:U$1002,【参考1】給与賞与計!$C$3:$C$1002,"男性",【参考1】給与賞与計!$D$3:$D$1002,$B3) -> 0 | F3: =SUMIFS(【参考1】給与賞与計!H$3:H$1002,【参考1】給与賞与計!$C$3:$C$1002,"男性",【参考1】給与賞与計!$D$3:$D$1002,$B3)+SUMIFS(【参考1】給与賞与計!V$3:V$1002,【参考1】給与賞与計!$C$3:$C$1002,"男性",【参考1】給与賞与計!$D$3:$D$1002,$B3) -> 0 | G3: =SUMIFS(【参考1】給与賞与計!I$3:I$1002,【参考1】給与賞与計!$C$3:$C$1002,"男性",【参考1】給与賞与計!$D$3:$D$1002,$B3)+SUMIFS(【参考1】給与賞与計!W$3:W$1002,【参考1】給与賞与計!$C$3:$C$1002,"男性",【参考1】給与賞与計!$D$3:$D$1002,$B3) -> 0 | H3: =SUMIFS(【参考1】給与賞与計!J$3:J$1002,【参考1】給与賞与計!$C$3:$C$1002,"男性",【参考1】給与賞与計!$D$3:$D$1002,$B3)+SUMIFS(【参考1】給与賞与計!X$3:X$1002,【参考1】給与賞与計!$C$3:$C$1002,"男性",【参考1】給与賞与計!$D$3:$D$1002,$B3) -> 0 | I3: =SUMIFS(【参考1】給与賞与計!K$3:K$1002,【参考1】給与賞与計!$C$3:$C$1002,"男性",【参考1】給与賞与計!$D$3:$D$1002,$B3)+SUMIFS(【参考1】給与賞与計!Y$3:Y$1002,【参考1】給与賞与計!$C$3:$C$1002,"男性",【参考1】給与賞与計!$D$3:$D$1002,$B3) -> 0 | J3: =SUMIFS(【参考1】給与賞与計!L$3:L$1002,【参考1】給与賞与計!$C$3:$C$1002,"男性",【参考1】給与賞与計!$D$3:$D$1002,$B3)+SUMIFS(【参考1】給与賞与計!Z$3:Z$1002,【参考1】給与賞与計!$C$3:$C$1002,"男性",【参考1】給与賞与計!$D$3:$D$1002,$B3) -> 0 | ... N3: =SUMIFS(【参考1】給与賞与計!P$3:P$1002,【参考1】給与賞与計!$C$3:$C$1002,"男性",【参考1】給与賞与計!$D$3:$D$1002,$B3)+SUMIFS(【参考1】給与賞与計!AD$3:AD$1002,【参考1】給与賞与計!$C$3:$C$1002,"男性",【参考1】給与賞与計!$D$3:$D$1002,$B3) -> 0 | O3: =SUM(C3:N3) -> 0 | Q3: 男性 | R3: 役員 | S3: =COUNTIFS(【参考1】給与賞与計!$C$3:$C$1002,"男性",【参考1】給与賞与計!$D$3:$D$1002,$B3,【参考1】給与賞与計!E$3:E$1002,">0") -> 0 | T3: =COUNTIFS(【参考1】給与賞与計!$C$3:$C$1002,"男性",【参考1】給与賞与計!$D$3:$D$1002,$B3,【参考1】給与賞与計!F$3:F$1002,">0") -> 0 | U3: =COUNTIFS(【参考1】給与賞与計!$C$3:$C$1002,"男性",【参考1】給与賞与計!$D$3:$D$1002,$B3,【参考1】給与賞与計!G$3:G$1002,">0") -> 0 | V3: =COUNTIFS(【参考1】給与賞与計!$C$3:$C$1002,"男性",【参考1】給与賞与計!$D$3:$D$1002,$B3,【参考1】給与賞与計!H$3:H$1002,">0") -> 0 | W3: =COUNTIFS(【参考1】給与賞与計!$C$3:$C$1002,"男性",【参考1】給与賞与計!$D$3:$D$1002,$B3,【参考1】給与賞与計!I$3:I$1002,">0") -> 0 | X3: =COUNTIFS(【参考1】給与賞与計!$C$3:$C$1002,"男性",【参考1】給与賞与計!$D$3:$D$1002,$B3,【参考1】給与賞与計!J$3:J$1002,">0") -> 0 | Y3: =COUNTIFS(【参考1】給与賞与計!$C$3:$C$1002,"男性",【参考1】給与賞与計!$D$3:$D$1002,$B3,【参考1】給与賞与計!K$3:K$1002,">0") -> 0 | Z3: =COUNTIFS(【参考1】給与賞与計!$C$3:$C$1002,"男性",【参考1】給与賞与計!$D$3:$D$1002,$B3,【参考1】給与賞与計!L$3:L$1002,">0") -> 0 | ... AD3: =COUNTIFS(【参考1】給与賞与計!$C$3:$C$1002,"男性",【参考1】給与賞与計!$D$3:$D$1002,$B3,【参考1】給与賞与計!P$3:P$1002,">0") -> 0 | AE3: =SUM(S3:AD3) -> 0 | AG3: 男性 | AH3: 役員 | AI3: =IFERROR(ROUND(C3/S3,0),0) -> 0 | AJ3: =IFERROR(ROUND(D3/T3,0),0) -> 0 | AK3: =IFERROR(ROUND(E3/U3,0),0) -> 0 | AL3: =IFERROR(ROUND(F3/V3,0),0) -> 0 | AM3: =IFERROR(ROUND(G3/W3,0),0) -> 0 | AN3: =IFERROR(ROUND(H3/X3,0),0) -> 0 | AO3: =IFERROR(ROUND(I3/Y3,0),0) -> 0 | AP3: =IFERROR(ROUND(J3/Z3,0),0) -> 0 | ... AT3: =IFERROR(ROUND(N3/AD3,0),0) -> 0 | AU3: =SUM(AI3:AT3) -> 0
B4: 兼務役員 | C4: =SUMIFS(【参考1】給与賞与計!E$3:E$1002,【参考1】給与賞与計!$C$3:$C$1002,"男性",【参考1】給与賞与計!$D$3:$D$1002,$B4)+SUMIFS(【参考1】給与賞与計!S$3:S$1002,【参考1】給与賞与計!$C$3:$C$1002,"男性",【参考1】給与賞与計!$D$3:$D$1002,$B4) -> 0 | D4: =SUMIFS(【参考1】給与賞与計!F$3:F$1002,【参考1】給与賞与計!$C$3:$C$1002,"男性",【参考1】給与賞与計!$D$3:$D$1002,$B4)+SUMIFS(【参考1】給与賞与計!T$3:T$1002,【参考1】給与賞与計!$C$3:$C$1002,"男性",【参考1】給与賞与計!$D$3:$D$1002,$B4) -> 0 | E4: =SUMIFS(【参考1】給与賞与計!G$3:G$1002,【参考1】給与賞与計!$C$3:$C$1002,"男性",【参考1】給与賞与計!$D$3:$D$1002,$B4)+SUMIFS(【参考1】給与賞与計!U$3:U$1002,【参考1】給与賞与計!$C$3:$C$1002,"男性",【参考1】給与賞与計!$D$3:$D$1002,$B4) -> 0 | F4: =SUMIFS(【参考1】給与賞与計!H$3:H$1002,【参考1】給与賞与計!$C$3:$C$1002,"男性",【参考1】給与賞与計!$D$3:$D$1002,$B4)+SUMIFS(【参考1】給与賞与計!V$3:V$1002,【参考1】給与賞与計!$C$3:$C$1002,"男性",【参考1】給与賞与計!$D$3:$D$1002,$B4) -> 0 | G4: =SUMIFS(【参考1】給与賞与計!I$3:I$1002,【参考1】給与賞与計!$C$3:$C$1002,"男性",【参考1】給与賞与計!$D$3:$D$1002,$B4)+SUMIFS(【参考1】給与賞与計!W$3:W$1002,【参考1】給与賞与計!$C$3:$C$1002,"男性",【参考1】給与賞与計!$D$3:$D$1002,$B4) -> 0 | H4: =SUMIFS(【参考1】給与賞与計!J$3:J$1002,【参考1】給与賞与計!$C$3:$C$1002,"男性",【参考1】給与賞与計!$D$3:$D$1002,$B4)+SUMIFS(【参考1】給与賞与計!X$3:X$1002,【参考1】給与賞与計!$C$3:$C$1002,"男性",【参考1】給与賞与計!$D$3:$D$1002,$B4) -> 0 | I4: =SUMIFS(【参考1】給与賞与計!K$3:K$1002,【参考1】給与賞与計!$C$3:$C$1002,"男性",【参考1】給与賞与計!$D$3:$D$1002,$B4)+SUMIFS(【参考1】給与賞与計!Y$3:Y$1002,【参考1】給与賞与計!$C$3:$C$1002,"男性",【参考1】給与賞与計!$D$3:$D$1002,$B4) -> 0 | J4: =SUMIFS(【参考1】給与賞与計!L$3:L$1002,【参考1】給与賞与計!$C$3:$C$1002,"男性",【参考1】給与賞与計!$D$3:$D$1002,$B4)+SUMIFS(【参考1】給与賞与計!Z$3:Z$1002,【参考1】給与賞与計!$C$3:$C$1002,"男性",【参考1】給与賞与計!$D$3:$D$1002,$B4) -> 0 | ... N4: =SUMIFS(【参考1】給与賞与計!P$3:P$1002,【参考1】給与賞与計!$C$3:$C$1002,"男性",【参考1】給与賞与計!$D$3:$D$1002,$B4)+SUMIFS(【参考1】給与賞与計!AD$3:AD$1002,【参考1】給与賞与計!$C$3:$C$1002,"男性",【参考1】給与賞与計!$D$3:$D$1002,$B4) -> 0 | O4: =SUM(C4:N4) -> 0 | R4: 兼務役員 | S4: =COUNTIFS(【参考1】給与賞与計!$C$3:$C$1002,"男性",【参考1】給与賞与計!$D$3:$D$1002,$B4,【参考1】給与賞与計!E$3:E$1002,">0") -> 0 | T4: =COUNTIFS(【参考1】給与賞与計!$C$3:$C$1002,"男性",【参考1】給与賞与計!$D$3:$D$1002,$B4,【参考1】給与賞与計!F$3:F$1002,">0") -> 0 | U4: =COUNTIFS(【参考1】給与賞与計!$C$3:$C$1002,"男性",【参考1】給与賞与計!$D$3:$D$1002,$B4,【参考1】給与賞与計!G$3:G$1002,">0") -> 0 | V4: =COUNTIFS(【参考1】給与賞与計!$C$3:$C$1002,"男性",【参考1】給与賞与計!$D$3:$D$1002,$B4,【参考1】給与賞与計!H$3:H$1002,">0") -> 0 | W4: =COUNTIFS(【参考1】給与賞与計!$C$3:$C$1002,"男性",【参考1】給与賞与計!$D$3:$D$1002,$B4,【参考1】給与賞与計!I$3:I$1002,">0") -> 0 | X4: =COUNTIFS(【参考1】給与賞与計!$C$3:$C$1002,"男性",【参考1】給与賞与計!$D$3:$D$1002,$B4,【参考1】給与賞与計!J$3:J$1002,">0") -> 0 | Y4: =COUNTIFS(【参考1】給与賞与計!$C$3:$C$1002,"男性",【参考1】給与賞与計!$D$3:$D$1002,$B4,【参考1】給与賞与計!K$3:K$1002,">0") -> 0 | Z4: =COUNTIFS(【参考1】給与賞与計!$C$3:$C$1002,"男性",【参考1】給与賞与計!$D$3:$D$1002,$B4,【参考1】給与賞与計!L$3:L$1002,">0") -> 0 | ... AD4: =COUNTIFS(【参考1】給与賞与計!$C$3:$C$1002,"男性",【参考1】給与賞与計!$D$3:$D$1002,$B4,【参考1】給与賞与計!P$3:P$1002,">0") -> 0 | AE4: =SUM(S4:AD4) -> 0 | AH4: 兼務役員 | AI4: =IFERROR(ROUND(C4/S4,0),0) -> 0 | AJ4: =IFERROR(ROUND(D4/T4,0),0) -> 0 | AK4: =IFERROR(ROUND(E4/U4,0),0) -> 0 | AL4: =IFERROR(ROUND(F4/V4,0),0) -> 0 | AM4: =IFERROR(ROUND(G4/W4,0),0) -> 0 | AN4: =IFERROR(ROUND(H4/X4,0),0) -> 0 | AO4: =IFERROR(ROUND(I4/Y4,0),0) -> 0 | AP4: =IFERROR(ROUND(J4/Z4,0),0) -> 0 | ... AT4: =IFERROR(ROUND(N4/AD4,0),0) -> 0 | AU4: =SUM(AI4:AT4) -> 0
B5: 社員 | C5: =SUMIFS(【参考1】給与賞与計!E$3:E$1002,【参考1】給与賞与計!$C$3:$C$1002,"男性",【参考1】給与賞与計!$D$3:$D$1002,$B5)+SUMIFS(【参考1】給与賞与計!S$3:S$1002,【参考1】給与賞与計!$C$3:$C$1002,"男性",【参考1】給与賞与計!$D$3:$D$1002,$B5) -> 0 | D5: =SUMIFS(【参考1】給与賞与計!F$3:F$1002,【参考1】給与賞与計!$C$3:$C$1002,"男性",【参考1】給与賞与計!$D$3:$D$1002,$B5)+SUMIFS(【参考1】給与賞与計!T$3:T$1002,【参考1】給与賞与計!$C$3:$C$1002,"男性",【参考1】給与賞与計!$D$3:$D$1002,$B5) -> 0 | E5: =SUMIFS(【参考1】給与賞与計!G$3:G$1002,【参考1】給与賞与計!$C$3:$C$1002,"男性",【参考1】給与賞与計!$D$3:$D$1002,$B5)+SUMIFS(【参考1】給与賞与計!U$3:U$1002,【参考1】給与賞与計!$C$3:$C$1002,"男性",【参考1】給与賞与計!$D$3:$D$1002,$B5) -> 0 | F5: =SUMIFS(【参考1】給与賞与計!H$3:H$1002,【参考1】給与賞与計!$C$3:$C$1002,"男性",【参考1】給与賞与計!$D$3:$D$1002,$B5)+SUMIFS(【参考1】給与賞与計!V$3:V$1002,【参考1】給与賞与計!$C$3:$C$1002,"男性",【参考1】給与賞与計!$D$3:$D$1002,$B5) -> 0 | G5: =SUMIFS(【参考1】給与賞与計!I$3:I$1002,【参考1】給与賞与計!$C$3:$C$1002,"男性",【参考1】給与賞与計!$D$3:$D$1002,$B5)+SUMIFS(【参考1】給与賞与計!W$3:W$1002,【参考1】給与賞与計!$C$3:$C$1002,"男性",【参考1】給与賞与計!$D$3:$D$1002,$B5) -> 0 | H5: =SUMIFS(【参考1】給与賞与計!J$3:J$1002,【参考1】給与賞与計!$C$3:$C$1002,"男性",【参考1】給与賞与計!$D$3:$D$1002,$B5)+SUMIFS(【参考1】給与賞与計!X$3:X$1002,【参考1】給与賞与計!$C$3:$C$1002,"男性",【参考1】給与賞与計!$D$3:$D$1002,$B5) -> 0 | I5: =SUMIFS(【参考1】給与賞与計!K$3:K$1002,【参考1】給与賞与計!$C$3:$C$1002,"男性",【参考1】給与賞与計!$D$3:$D$1002,$B5)+SUMIFS(【参考1】給与賞与計!Y$3:Y$1002,【参考1】給与賞与計!$C$3:$C$1002,"男性",【参考1】給与賞与計!$D$3:$D$1002,$B5) -> 0 | J5: =SUMIFS(【参考1】給与賞与計!L$3:L$1002,【参考1】給与賞与計!$C$3:$C$1002,"男性",【参考1】給与賞与計!$D$3:$D$1002,$B5)+SUMIFS(【参考1】給与賞与計!Z$3:Z$1002,【参考1】給与賞与計!$C$3:$C$1002,"男性",【参考1】給与賞与計!$D$3:$D$1002,$B5) -> 0 | ... N5: =SUMIFS(【参考1】給与賞与計!P$3:P$1002,【参考1】給与賞与計!$C$3:$C$1002,"男性",【参考1】給与賞与計!$D$3:$D$1002,$B5)+SUMIFS(【参考1】給与賞与計!AD$3:AD$1002,【参考1】給与賞与計!$C$3:$C$1002,"男性",【参考1】給与賞与計!$D$3:$D$1002,$B5) -> 0 | O5: =SUM(C5:N5) -> 0 | R5: 社員 | S5: =COUNTIFS(【参考1】給与賞与計!$C$3:$C$1002,"男性",【参考1】給与賞与計!$D$3:$D$1002,$B5,【参考1】給与賞与計!E$3:E$1002,">0") -> 0 | T5: =COUNTIFS(【参考1】給与賞与計!$C$3:$C$1002,"男性",【参考1】給与賞与計!$D$3:$D$1002,$B5,【参考1】給与賞与計!F$3:F$1002,">0") -> 0 | U5: =COUNTIFS(【参考1】給与賞与計!$C$3:$C$1002,"男性",【参考1】給与賞与計!$D$3:$D$1002,$B5,【参考1】給与賞与計!G$3:G$1002,">0") -> 0 | V5: =COUNTIFS(【参考1】給与賞与計!$C$3:$C$1002,"男性",【参考1】給与賞与計!$D$3:$D$1002,$B5,【参考1】給与賞与計!H$3:H$1002,">0") -> 0 | W5: =COUNTIFS(【参考1】給与賞与計!$C$3:$C$1002,"男性",【参考1】給与賞与計!$D$3:$D$1002,$B5,【参考1】給与賞与計!I$3:I$1002,">0") -> 0 | X5: =COUNTIFS(【参考1】給与賞与計!$C$3:$C$1002,"男性",【参考1】給与賞与計!$D$3:$D$1002,$B5,【参考1】給与賞与計!J$3:J$1002,">0") -> 0 | Y5: =COUNTIFS(【参考1】給与賞与計!$C$3:$C$1002,"男性",【参考1】給与賞与計!$D$3:$D$1002,$B5,【参考1】給与賞与計!K$3:K$1002,">0") -> 0 | Z5: =COUNTIFS(【参考1】給与賞与計!$C$3:$C$1002,"男性",【参考1】給与賞与計!$D$3:$D$1002,$B5,【参考1】給与賞与計!L$3:L$1002,">0") -> 0 | ... AD5: =COUNTIFS(【参考1】給与賞与計!$C$3:$C$1002,"男性",【参考1】給与賞与計!$D$3:$D$1002,$B5,【参考1】給与賞与計!P$3:P$1002,">0") -> 0 | AE5: =SUM(S5:AD5) -> 0 | AH5: 社員 | AI5: =IFERROR(ROUND(C5/S5,0),0) -> 0 | AJ5: =IFERROR(ROUND(D5/T5,0),0) -> 0 | AK5: =IFERROR(ROUND(E5/U5,0),0) -> 0 | AL5: =IFERROR(ROUND(F5/V5,0),0) -> 0 | AM5: =IFERROR(ROUND(G5/W5,0),0) -> 0 | AN5: =IFERROR(ROUND(H5/X5,0),0) -> 0 | AO5: =IFERROR(ROUND(I5/Y5,0),0) -> 0 | AP5: =IFERROR(ROUND(J5/Z5,0),0) -> 0 | ... AT5: =IFERROR(ROUND(N5/AD5,0),0) -> 0 | AU5: =SUM(AI5:AT5) -> 0
B6: 嘱託 | C6: =SUMIFS(【参考1】給与賞与計!E$3:E$1002,【参考1】給与賞与計!$C$3:$C$1002,"男性",【参考1】給与賞与計!$D$3:$D$1002,$B6)+SUMIFS(【参考1】給与賞与計!S$3:S$1002,【参考1】給与賞与計!$C$3:$C$1002,"男性",【参考1】給与賞与計!$D$3:$D$1002,$B6) -> 0 | D6: =SUMIFS(【参考1】給与賞与計!F$3:F$1002,【参考1】給与賞与計!$C$3:$C$1002,"男性",【参考1】給与賞与計!$D$3:$D$1002,$B6)+SUMIFS(【参考1】給与賞与計!T$3:T$1002,【参考1】給与賞与計!$C$3:$C$1002,"男性",【参考1】給与賞与計!$D$3:$D$1002,$B6) -> 0 | E6: =SUMIFS(【参考1】給与賞与計!G$3:G$1002,【参考1】給与賞与計!$C$3:$C$1002,"男性",【参考1】給与賞与計!$D$3:$D$1002,$B6)+SUMIFS(【参考1】給与賞与計!U$3:U$1002,【参考1】給与賞与計!$C$3:$C$1002,"男性",【参考1】給与賞与計!$D$3:$D$1002,$B6) -> 0 | F6: =SUMIFS(【参考1】給与賞与計!H$3:H$1002,【参考1】給与賞与計!$C$3:$C$1002,"男性",【参考1】給与賞与計!$D$3:$D$1002,$B6)+SUMIFS(【参考1】給与賞与計!V$3:V$1002,【参考1】給与賞与計!$C$3:$C$1002,"男性",【参考1】給与賞与計!$D$3:$D$1002,$B6) -> 0 | G6: =SUMIFS(【参考1】給与賞与計!I$3:I$1002,【参考1】給与賞与計!$C$3:$C$1002,"男性",【参考1】給与賞与計!$D$3:$D$1002,$B6)+SUMIFS(【参考1】給与賞与計!W$3:W$1002,【参考1】給与賞与計!$C$3:$C$1002,"男性",【参考1】給与賞与計!$D$3:$D$1002,$B6) -> 0 | H6: =SUMIFS(【参考1】給与賞与計!J$3:J$1002,【参考1】給与賞与計!$C$3:$C$1002,"男性",【参考1】給与賞与計!$D$3:$D$1002,$B6)+SUMIFS(【参考1】給与賞与計!X$3:X$1002,【参考1】給与賞与計!$C$3:$C$1002,"男性",【参考1】給与賞与計!$D$3:$D$1002,$B6) -> 0 | I6: =SUMIFS(【参考1】給与賞与計!K$3:K$1002,【参考1】給与賞与計!$C$3:$C$1002,"男性",【参考1】給与賞与計!$D$3:$D$1002,$B6)+SUMIFS(【参考1】給与賞与計!Y$3:Y$1002,【参考1】給与賞与計!$C$3:$C$1002,"男性",【参考1】給与賞与計!$D$3:$D$1002,$B6) -> 0 | J6: =SUMIFS(【参考1】給与賞与計!L$3:L$1002,【参考1】給与賞与計!$C$3:$C$1002,"男性",【参考1】給与賞与計!$D$3:$D$1002,$B6)+SUMIFS(【参考1】給与賞与計!Z$3:Z$1002,【参考1】給与賞与計!$C$3:$C$1002,"男性",【参考1】給与賞与計!$D$3:$D$1002,$B6) -> 0 | ... N6: =SUMIFS(【参考1】給与賞与計!P$3:P$1002,【参考1】給与賞与計!$C$3:$C$1002,"男性",【参考1】給与賞与計!$D$3:$D$1002,$B6)+SUMIFS(【参考1】給与賞与計!AD$3:AD$1002,【参考1】給与賞与計!$C$3:$C$1002,"男性",【参考1】給与賞与計!$D$3:$D$1002,$B6) -> 0 | O6: =SUM(C6:N6) -> 0 | R6: 嘱託 | S6: =COUNTIFS(【参考1】給与賞与計!$C$3:$C$1002,"男性",【参考1】給与賞与計!$D$3:$D$1002,$B6,【参考1】給与賞与計!E$3:E$1002,">0") -> 0 | T6: =COUNTIFS(【参考1】給与賞与計!$C$3:$C$1002,"男性",【参考1】給与賞与計!$D$3:$D$1002,$B6,【参考1】給与賞与計!F$3:F$1002,">0") -> 0 | U6: =COUNTIFS(【参考1】給与賞与計!$C$3:$C$1002,"男性",【参考1】給与賞与計!$D$3:$D$1002,$B6,【参考1】給与賞与計!G$3:G$1002,">0") -> 0 | V6: =COUNTIFS(【参考1】給与賞与計!$C$3:$C$1002,"男性",【参考1】給与賞与計!$D$3:$D$1002,$B6,【参考1】給与賞与計!H$3:H$1002,">0") -> 0 | W6: =COUNTIFS(【参考1】給与賞与計!$C$3:$C$1002,"男性",【参考1】給与賞与計!$D$3:$D$1002,$B6,【参考1】給与賞与計!I$3:I$1002,">0") -> 0 | X6: =COUNTIFS(【参考1】給与賞与計!$C$3:$C$1002,"男性",【参考1】給与賞与計!$D$3:$D$1002,$B6,【参考1】給与賞与計!J$3:J$1002,">0") -> 0 | Y6: =COUNTIFS(【参考1】給与賞与計!$C$3:$C$1002,"男性",【参考1】給与賞与計!$D$3:$D$1002,$B6,【参考1】給与賞与計!K$3:K$1002,">0") -> 0 | Z6: =COUNTIFS(【参考1】給与賞与計!$C$3:$C$1002,"男性",【参考1】給与賞与計!$D$3:$D$1002,$B6,【参考1】給与賞与計!L$3:L$1002,">0") -> 0 | ... AD6: =COUNTIFS(【参考1】給与賞与計!$C$3:$C$1002,"男性",【参考1】給与賞与計!$D$3:$D$1002,$B6,【参考1】給与賞与計!P$3:P$1002,">0") -> 0 | AE6: =SUM(S6:AD6) -> 0 | AH6: 嘱託 | AI6: =IFERROR(ROUND(C6/S6,0),0) -> 0 | AJ6: =IFERROR(ROUND(D6/T6,0),0) -> 0 | AK6: =IFERROR(ROUND(E6/U6,0),0) -> 0 | AL6: =IFERROR(ROUND(F6/V6,0),0) -> 0 | AM6: =IFERROR(ROUND(G6/W6,0),0) -> 0 | AN6: =IFERROR(ROUND(H6/X6,0),0) -> 0 | AO6: =IFERROR(ROUND(I6/Y6,0),0) -> 0 | AP6: =IFERROR(ROUND(J6/Z6,0),0) -> 0 | ... AT6: =IFERROR(ROUND(N6/AD6,0),0) -> 0 | AU6: =SUM(AI6:AT6) -> 0
B7: パート・アルバイト | C7: =SUMIFS(【参考1】給与賞与計!E$3:E$1002,【参考1】給与賞与計!$C$3:$C$1002,"男性",【参考1】給与賞与計!$D$3:$D$1002,$B7)+SUMIFS(【参考1】給与賞与計!S$3:S$1002,【参考1】給与賞与計!$C$3:$C$1002,"男性",【参考1】給与賞与計!$D$3:$D$1002,$B7) -> 0 | D7: =SUMIFS(【参考1】給与賞与計!F$3:F$1002,【参考1】給与賞与計!$C$3:$C$1002,"男性",【参考1】給与賞与計!$D$3:$D$1002,$B7)+SUMIFS(【参考1】給与賞与計!T$3:T$1002,【参考1】給与賞与計!$C$3:$C$1002,"男性",【参考1】給与賞与計!$D$3:$D$1002,$B7) -> 0 | E7: =SUMIFS(【参考1】給与賞与計!G$3:G$1002,【参考1】給与賞与計!$C$3:$C$1002,"男性",【参考1】給与賞与計!$D$3:$D$1002,$B7)+SUMIFS(【参考1】給与賞与計!U$3:U$1002,【参考1】給与賞与計!$C$3:$C$1002,"男性",【参考1】給与賞与計!$D$3:$D$1002,$B7) -> 0 | F7: =SUMIFS(【参考1】給与賞与計!H$3:H$1002,【参考1】給与賞与計!$C$3:$C$1002,"男性",【参考1】給与賞与計!$D$3:$D$1002,$B7)+SUMIFS(【参考1】給与賞与計!V$3:V$1002,【参考1】給与賞与計!$C$3:$C$1002,"男性",【参考1】給与賞与計!$D$3:$D$1002,$B7) -> 0 | G7: =SUMIFS(【参考1】給与賞与計!I$3:I$1002,【参考1】給与賞与計!$C$3:$C$1002,"男性",【参考1】給与賞与計!$D$3:$D$1002,$B7)+SUMIFS(【参考1】給与賞与計!W$3:W$1002,【参考1】給与賞与計!$C$3:$C$1002,"男性",【参考1】給与賞与計!$D$3:$D$1002,$B7) -> 0 | H7: =SUMIFS(【参考1】給与賞与計!J$3:J$1002,【参考1】給与賞与計!$C$3:$C$1002,"男性",【参考1】給与賞与計!$D$3:$D$1002,$B7)+SUMIFS(【参考1】給与賞与計!X$3:X$1002,【参考1】給与賞与計!$C$3:$C$1002,"男性",【参考1】給与賞与計!$D$3:$D$1002,$B7) -> 0 | I7: =SUMIFS(【参考1】給与賞与計!K$3:K$1002,【参考1】給与賞与計!$C$3:$C$1002,"男性",【参考1】給与賞与計!$D$3:$D$1002,$B7)+SUMIFS(【参考1】給与賞与計!Y$3:Y$1002,【参考1】給与賞与計!$C$3:$C$1002,"男性",【参考1】給与賞与計!$D$3:$D$1002,$B7) -> 0 | J7: =SUMIFS(【参考1】給与賞与計!L$3:L$1002,【参考1】給与賞与計!$C$3:$C$1002,"男性",【参考1】給与賞与計!$D$3:$D$1002,$B7)+SUMIFS(【参考1】給与賞与計!Z$3:Z$1002,【参考1】給与賞与計!$C$3:$C$1002,"男性",【参考1】給与賞与計!$D$3:$D$1002,$B7) -> 0 | ... N7: =SUMIFS(【参考1】給与賞与計!P$3:P$1002,【参考1】給与賞与計!$C$3:$C$1002,"男性",【参考1】給与賞与計!$D$3:$D$1002,$B7)+SUMIFS(【参考1】給与賞与計!AD$3:AD$1002,【参考1】給与賞与計!$C$3:$C$1002,"男性",【参考1】給与賞与計!$D$3:$D$1002,$B7) -> 0 | O7: =SUM(C7:N7) -> 0 | R7: パート・アルバイト | S7: =COUNTIFS(【参考1】給与賞与計!$C$3:$C$1002,"男性",【参考1】給与賞与計!$D$3:$D$1002,$B7,【参考1】給与賞与計!E$3:E$1002,">0") -> 0 | T7: =COUNTIFS(【参考1】給与賞与計!$C$3:$C$1002,"男性",【参考1】給与賞与計!$D$3:$D$1002,$B7,【参考1】給与賞与計!F$3:F$1002,">0") -> 0 | U7: =COUNTIFS(【参考1】給与賞与計!$C$3:$C$1002,"男性",【参考1】給与賞与計!$D$3:$D$1002,$B7,【参考1】給与賞与計!G$3:G$1002,">0") -> 0 | V7: =COUNTIFS(【参考1】給与賞与計!$C$3:$C$1002,"男性",【参考1】給与賞与計!$D$3:$D$1002,$B7,【参考1】給与賞与計!H$3:H$1002,">0") -> 0 | W7: =COUNTIFS(【参考1】給与賞与計!$C$3:$C$1002,"男性",【参考1】給与賞与計!$D$3:$D$1002,$B7,【参考1】給与賞与計!I$3:I$1002,">0") -> 0 | X7: =COUNTIFS(【参考1】給与賞与計!$C$3:$C$1002,"男性",【参考1】給与賞与計!$D$3:$D$1002,$B7,【参考1】給与賞与計!J$3:J$1002,">0") -> 0 | Y7: =COUNTIFS(【参考1】給与賞与計!$C$3:$C$1002,"男性",【参考1】給与賞与計!$D$3:$D$1002,$B7,【参考1】給与賞与計!K$3:K$1002,">0") -> 0 | Z7: =COUNTIFS(【参考1】給与賞与計!$C$3:$C$1002,"男性",【参考1】給与賞与計!$D$3:$D$1002,$B7,【参考1】給与賞与計!L$3:L$1002,">0") -> 0 | ... AD7: =COUNTIFS(【参考1】給与賞与計!$C$3:$C$1002,"男性",【参考1】給与賞与計!$D$3:$D$1002,$B7,【参考1】給与賞与計!P$3:P$1002,">0") -> 0 | AE7: =SUM(S7:AD7) -> 0 | AH7: パート・アルバイト | AI7: =IFERROR(ROUND(C7/S7,0),0) -> 0 | AJ7: =IFERROR(ROUND(D7/T7,0),0) -> 0 | AK7: =IFERROR(ROUND(E7/U7,0),0) -> 0 | AL7: =IFERROR(ROUND(F7/V7,0),0) -> 0 | AM7: =IFERROR(ROUND(G7/W7,0),0) -> 0 | AN7: =IFERROR(ROUND(H7/X7,0),0) -> 0 | AO7: =IFERROR(ROUND(I7/Y7,0),0) -> 0 | AP7: =IFERROR(ROUND(J7/Z7,0),0) -> 0 | ... AT7: =IFERROR(ROUND(N7/AD7,0),0) -> 0 | AU7: =SUM(AI7:AT7) -> 0
B8: その他 | C8: =SUMIFS(【参考1】給与賞与計!E$3:E$1002,【参考1】給与賞与計!$C$3:$C$1002,"男性",【参考1】給与賞与計!$D$3:$D$1002,$B8)+SUMIFS(【参考1】給与賞与計!S$3:S$1002,【参考1】給与賞与計!$C$3:$C$1002,"男性",【参考1】給与賞与計!$D$3:$D$1002,$B8) -> 0 | D8: =SUMIFS(【参考1】給与賞与計!F$3:F$1002,【参考1】給与賞与計!$C$3:$C$1002,"男性",【参考1】給与賞与計!$D$3:$D$1002,$B8)+SUMIFS(【参考1】給与賞与計!T$3:T$1002,【参考1】給与賞与計!$C$3:$C$1002,"男性",【参考1】給与賞与計!$D$3:$D$1002,$B8) -> 0 | E8: =SUMIFS(【参考1】給与賞与計!G$3:G$1002,【参考1】給与賞与計!$C$3:$C$1002,"男性",【参考1】給与賞与計!$D$3:$D$1002,$B8)+SUMIFS(【参考1】給与賞与計!U$3:U$1002,【参考1】給与賞与計!$C$3:$C$1002,"男性",【参考1】給与賞与計!$D$3:$D$1002,$B8) -> 0 | F8: =SUMIFS(【参考1】給与賞与計!H$3:H$1002,【参考1】給与賞与計!$C$3:$C$1002,"男性",【参考1】給与賞与計!$D$3:$D$1002,$B8)+SUMIFS(【参考1】給与賞与計!V$3:V$1002,【参考1】給与賞与計!$C$3:$C$1002,"男性",【参考1】給与賞与計!$D$3:$D$1002,$B8) -> 0 | G8: =SUMIFS(【参考1】給与賞与計!I$3:I$1002,【参考1】給与賞与計!$C$3:$C$1002,"男性",【参考1】給与賞与計!$D$3:$D$1002,$B8)+SUMIFS(【参考1】給与賞与計!W$3:W$1002,【参考1】給与賞与計!$C$3:$C$1002,"男性",【参考1】給与賞与計!$D$3:$D$1002,$B8) -> 0 | H8: =SUMIFS(【参考1】給与賞与計!J$3:J$1002,【参考1】給与賞与計!$C$3:$C$1002,"男性",【参考1】給与賞与計!$D$3:$D$1002,$B8)+SUMIFS(【参考1】給与賞与計!X$3:X$1002,【参考1】給与賞与計!$C$3:$C$1002,"男性",【参考1】給与賞与計!$D$3:$D$1002,$B8) -> 0 | I8: =SUMIFS(【参考1】給与賞与計!K$3:K$1002,【参考1】給与賞与計!$C$3:$C$1002,"男性",【参考1】給与賞与計!$D$3:$D$1002,$B8)+SUMIFS(【参考1】給与賞与計!Y$3:Y$1002,【参考1】給与賞与計!$C$3:$C$1002,"男性",【参考1】給与賞与計!$D$3:$D$1002,$B8) -> 0 | J8: =SUMIFS(【参考1】給与賞与計!L$3:L$1002,【参考1】給与賞与計!$C$3:$C$1002,"男性",【参考1】給与賞与計!$D$3:$D$1002,$B8)+SUMIFS(【参考1】給与賞与計!Z$3:Z$1002,【参考1】給与賞与計!$C$3:$C$1002,"男性",【参考1】給与賞与計!$D$3:$D$1002,$B8) -> 0 | ... N8: =SUMIFS(【参考1】給与賞与計!P$3:P$1002,【参考1】給与賞与計!$C$3:$C$1002,"男性",【参考1】給与賞与計!$D$3:$D$1002,$B8)+SUMIFS(【参考1】給与賞与計!AD$3:AD$1002,【参考1】給与賞与計!$C$3:$C$1002,"男性",【参考1】給与賞与計!$D$3:$D$1002,$B8) -> 0 | O8: =SUM(C8:N8) -> 0 | R8: その他 | S8: =COUNTIFS(【参考1】給与賞与計!$C$3:$C$1002,"男性",【参考1】給与賞与計!$D$3:$D$1002,$B8,【参考1】給与賞与計!E$3:E$1002,">0") -> 0 | T8: =COUNTIFS(【参考1】給与賞与計!$C$3:$C$1002,"男性",【参考1】給与賞与計!$D$3:$D$1002,$B8,【参考1】給与賞与計!F$3:F$1002,">0") -> 0 | U8: =COUNTIFS(【参考1】給与賞与計!$C$3:$C$1002,"男性",【参考1】給与賞与計!$D$3:$D$1002,$B8,【参考1】給与賞与計!G$3:G$1002,">0") -> 0 | V8: =COUNTIFS(【参考1】給与賞与計!$C$3:$C$1002,"男性",【参考1】給与賞与計!$D$3:$D$1002,$B8,【参考1】給与賞与計!H$3:H$1002,">0") -> 0 | W8: =COUNTIFS(【参考1】給与賞与計!$C$3:$C$1002,"男性",【参考1】給与賞与計!$D$3:$D$1002,$B8,【参考1】給与賞与計!I$3:I$1002,">0") -> 0 | X8: =COUNTIFS(【参考1】給与賞与計!$C$3:$C$1002,"男性",【参考1】給与賞与計!$D$3:$D$1002,$B8,【参考1】給与賞与計!J$3:J$1002,">0") -> 0 | Y8: =COUNTIFS(【参考1】給与賞与計!$C$3:$C$1002,"男性",【参考1】給与賞与計!$D$3:$D$1002,$B8,【参考1】給与賞与計!K$3:K$1002,">0") -> 0 | Z8: =COUNTIFS(【参考1】給与賞与計!$C$3:$C$1002,"男性",【参考1】給与賞与計!$D$3:$D$1002,$B8,【参考1】給与賞与計!L$3:L$1002,">0") -> 0 | ... AD8: =COUNTIFS(【参考1】給与賞与計!$C$3:$C$1002,"男性",【参考1】給与賞与計!$D$3:$D$1002,$B8,【参考1】給与賞与計!P$3:P$1002,">0") -> 0 | AE8: =SUM(S8:AD8) -> 0 | AH8: その他 | AI8: =IFERROR(ROUND(C8/S8,0),0) -> 0 | AJ8: =IFERROR(ROUND(D8/T8,0),0) -> 0 | AK8: =IFERROR(ROUND(E8/U8,0),0) -> 0 | AL8: =IFERROR(ROUND(F8/V8,0),0) -> 0 | AM8: =IFERROR(ROUND(G8/W8,0),0) -> 0 | AN8: =IFERROR(ROUND(H8/X8,0),0) -> 0 | AO8: =IFERROR(ROUND(I8/Y8,0),0) -> 0 | AP8: =IFERROR(ROUND(J8/Z8,0),0) -> 0 | ... AT8: =IFERROR(ROUND(N8/AD8,0),0) -> 0 | AU8: =SUM(AI8:AT8) -> 0
A9: 女性 | B9: 役員 | C9: =SUMIFS(【参考1】給与賞与計!E$3:E$1002,【参考1】給与賞与計!$C$3:$C$1002,"女性",【参考1】給与賞与計!$D$3:$D$1002,$B9)+SUMIFS(【参考1】給与賞与計!S$3:S$1002,【参考1】給与賞与計!$C$3:$C$1002,"女性",【参考1】給与賞与計!$D$3:$D$1002,$B9) -> 0 | D9: =SUMIFS(【参考1】給与賞与計!F$3:F$1002,【参考1】給与賞与計!$C$3:$C$1002,"女性",【参考1】給与賞与計!$D$3:$D$1002,$B9)+SUMIFS(【参考1】給与賞与計!T$3:T$1002,【参考1】給与賞与計!$C$3:$C$1002,"女性",【参考1】給与賞与計!$D$3:$D$1002,$B9) -> 0 | E9: =SUMIFS(【参考1】給与賞与計!G$3:G$1002,【参考1】給与賞与計!$C$3:$C$1002,"女性",【参考1】給与賞与計!$D$3:$D$1002,$B9)+SUMIFS(【参考1】給与賞与計!U$3:U$1002,【参考1】給与賞与計!$C$3:$C$1002,"女性",【参考1】給与賞与計!$D$3:$D$1002,$B9) -> 0 | F9: =SUMIFS(【参考1】給与賞与計!H$3:H$1002,【参考1】給与賞与計!$C$3:$C$1002,"女性",【参考1】給与賞与計!$D$3:$D$1002,$B9)+SUMIFS(【参考1】給与賞与計!V$3:V$1002,【参考1】給与賞与計!$C$3:$C$1002,"女性",【参考1】給与賞与計!$D$3:$D$1002,$B9) -> 0 | G9: =SUMIFS(【参考1】給与賞与計!I$3:I$1002,【参考1】給与賞与計!$C$3:$C$1002,"女性",【参考1】給与賞与計!$D$3:$D$1002,$B9)+SUMIFS(【参考1】給与賞与計!W$3:W$1002,【参考1】給与賞与計!$C$3:$C$1002,"女性",【参考1】給与賞与計!$D$3:$D$1002,$B9) -> 0 | H9: =SUMIFS(【参考1】給与賞与計!J$3:J$1002,【参考1】給与賞与計!$C$3:$C$1002,"女性",【参考1】給与賞与計!$D$3:$D$1002,$B9)+SUMIFS(【参考1】給与賞与計!X$3:X$1002,【参考1】給与賞与計!$C$3:$C$1002,"女性",【参考1】給与賞与計!$D$3:$D$1002,$B9) -> 0 | I9: =SUMIFS(【参考1】給与賞与計!K$3:K$1002,【参考1】給与賞与計!$C$3:$C$1002,"女性",【参考1】給与賞与計!$D$3:$D$1002,$B9)+SUMIFS(【参考1】給与賞与計!Y$3:Y$1002,【参考1】給与賞与計!$C$3:$C$1002,"女性",【参考1】給与賞与計!$D$3:$D$1002,$B9) -> 0 | J9: =SUMIFS(【参考1】給与賞与計!L$3:L$1002,【参考1】給与賞与計!$C$3:$C$1002,"女性",【参考1】給与賞与計!$D$3:$D$1002,$B9)+SUMIFS(【参考1】給与賞与計!Z$3:Z$1002,【参考1】給与賞与計!$C$3:$C$1002,"女性",【参考1】給与賞与計!$D$3:$D$1002,$B9) -> 0 | ... N9: =SUMIFS(【参考1】給与賞与計!P$3:P$1002,【参考1】給与賞与計!$C$3:$C$1002,"女性",【参考1】給与賞与計!$D$3:$D$1002,$B9)+SUMIFS(【参考1】給与賞与計!AD$3:AD$1002,【参考1】給与賞与計!$C$3:$C$1002,"女性",【参考1】給与賞与計!$D$3:$D$1002,$B9) -> 0 | O9: =SUM(C9:N9) -> 0 | Q9: 女性 | R9: 役員 | S9: =COUNTIFS(【参考1】給与賞与計!$C$3:$C$1002,"女性",【参考1】給与賞与計!$D$3:$D$1002,$B9,【参考1】給与賞与計!E$3:E$1002,">0") -> 0 | T9: =COUNTIFS(【参考1】給与賞与計!$C$3:$C$1002,"女性",【参考1】給与賞与計!$D$3:$D$1002,$B9,【参考1】給与賞与計!F$3:F$1002,">0") -> 0 | U9: =COUNTIFS(【参考1】給与賞与計!$C$3:$C$1002,"女性",【参考1】給与賞与計!$D$3:$D$1002,$B9,【参考1】給与賞与計!G$3:G$1002,">0") -> 0 | V9: =COUNTIFS(【参考1】給与賞与計!$C$3:$C$1002,"女性",【参考1】給与賞与計!$D$3:$D$1002,$B9,【参考1】給与賞与計!H$3:H$1002,">0") -> 0 | W9: =COUNTIFS(【参考1】給与賞与計!$C$3:$C$1002,"女性",【参考1】給与賞与計!$D$3:$D$1002,$B9,【参考1】給与賞与計!I$3:I$1002,">0") -> 0 | X9: =COUNTIFS(【参考1】給与賞与計!$C$3:$C$1002,"女性",【参考1】給与賞与計!$D$3:$D$1002,$B9,【参考1】給与賞与計!J$3:J$1002,">0") -> 0 | Y9: =COUNTIFS(【参考1】給与賞与計!$C$3:$C$1002,"女性",【参考1】給与賞与計!$D$3:$D$1002,$B9,【参考1】給与賞与計!K$3:K$1002,">0") -> 0 | Z9: =COUNTIFS(【参考1】給与賞与計!$C$3:$C$1002,"女性",【参考1】給与賞与計!$D$3:$D$1002,$B9,【参考1】給与賞与計!L$3:L$1002,">0") -> 0 | ... AD9: =COUNTIFS(【参考1】給与賞与計!$C$3:$C$1002,"女性",【参考1】給与賞与計!$D$3:$D$1002,$B9,【参考1】給与賞与計!P$3:P$1002,">0") -> 0 | AE9: =SUM(S9:AD9) -> 0 | AG9: 女性 | AH9: 役員 | AI9: =IFERROR(ROUND(C9/S9,0),0) -> 0 | AJ9: =IFERROR(ROUND(D9/T9,0),0) -> 0 | AK9: =IFERROR(ROUND(E9/U9,0),0) -> 0 | AL9: =IFERROR(ROUND(F9/V9,0),0) -> 0 | AM9: =IFERROR(ROUND(G9/W9,0),0) -> 0 | AN9: =IFERROR(ROUND(H9/X9,0),0) -> 0 | AO9: =IFERROR(ROUND(I9/Y9,0),0) -> 0 | AP9: =IFERROR(ROUND(J9/Z9,0),0) -> 0 | ... AT9: =IFERROR(ROUND(N9/AD9,0),0) -> 0 | AU9: =SUM(AI9:AT9) -> 0
